BEGIN:VCALENDAR
VERSION:2.0
PRODID:-//Kreative Therapie Hof - ECPv5.1.6//NONSGML v1.0//EN
CALSCALE:GREGORIAN
METHOD:PUBLISH
X-WR-CALNAME:Kreative Therapie Hof
X-ORIGINAL-URL:https://kreative-therapie-hof.de
X-WR-CALDESC:Veranstaltungen für Kreative Therapie Hof
BEGIN:VTIMEZONE
TZID:Europe/Helsinki
BEGIN:DAYLIGHT
TZOFFSETFROM:+0200
TZOFFSETTO:+0300
TZNAME:EEST
DTSTART:20210328T010000
END:DAYLIGHT
BEGIN:STANDARD
TZOFFSETFROM:+0300
TZOFFSETTO:+0200
TZNAME:EET
DTSTART:20211031T010000
END:STANDARD
END:VTIMEZONE
BEGIN:VEVENT
DTSTART;TZID=Europe/Helsinki:20210619T140000
DTEND;TZID=Europe/Helsinki:20210619T160000
DTSTAMP:20260420T135249
CREATED:20210614T125245Z
LAST-MODIFIED:20210614T125245Z
UID:892-1624111200-1624118400@kreative-therapie-hof.de
SUMMARY:19. Juni 2021
DESCRIPTION:Malen als Weg \nIntensivworkshop in kleiner Gruppe \nFür die Stärkung\n*Deines körperlichen und seelischen Wohlbefindens\,\n*Deiner Schöpferkraft\,\n*Deines Selbstausdruckes\,\n*Deines  Selbstwertes\n*Deines  Selbstvertrauens\n*zur persönlichen Weiterentwicklung\n*um Probleme zu erkennen und Lösungen zu finden\n* und den Kopf wieder frei zu bekommen. \nEs sind keinerlei Vorkenntnisse im Umgang mit Farben oder Maltechniken erforderlich\,jedoch ist die Bereitschaft\, sich selbst zu begegnen wünschenswert. \nKreativzeit findet in einer kleinen Gruppebei schönem Wetter im Freien\,ansonsten in meinem großen Praxisraumin Münchberg\, Schödlas 2\, statt.Wir malen mit Pastellkreide oder Ölpastellkreide.\nDas Material ist bereits vorhanden.Die Kursgebühr incl. Material beträgt30€/ Person:Ich bitte um Anmeldung um sicher planen zu können.
URL:https://kreative-therapie-hof.de/event/19-juni-2021/
END:VEVENT
END:VCALENDAR