BEGIN:VCALENDAR
VERSION:2.0
PRODID:-//Kreative Therapie Hof - ECPv5.1.6//NONSGML v1.0//EN
CALSCALE:GREGORIAN
METHOD:PUBLISH
X-WR-CALNAME:Kreative Therapie Hof
X-ORIGINAL-URL:https://kreative-therapie-hof.de
X-WR-CALDESC:Veranstaltungen für Kreative Therapie Hof
BEGIN:VTIMEZONE
TZID:Europe/Helsinki
BEGIN:DAYLIGHT
TZOFFSETFROM:+0200
TZOFFSETTO:+0300
TZNAME:EEST
DTSTART:20250330T010000
END:DAYLIGHT
BEGIN:STANDARD
TZOFFSETFROM:+0300
TZOFFSETTO:+0200
TZNAME:EET
DTSTART:20251026T010000
END:STANDARD
END:VTIMEZONE
BEGIN:VEVENT
DTSTART;TZID=Europe/Helsinki:20250801T190000
DTEND;TZID=Europe/Helsinki:20250801T210000
DTSTAMP:20260424T164748
CREATED:20250730T102324Z
LAST-MODIFIED:20250730T102426Z
UID:1814-1754074800-1754082000@kreative-therapie-hof.de
SUMMARY:Auf zu neuen Ufern mit energetischem Zeichnen
DESCRIPTION:  \n🌟 Auf zu neuen Ufern mit energetischem Zeichnen 🌟\nLiebe Interessierte\,\nam Freitag\, den 1. August von 19:00 bis 21:00 Uhr lade ich Dich herzlich zum energetischen Zeichnen in meine Praxis in Münchberg\, Schödlas 2 ein. \nIn kleiner Runde (3–5 Personen) geben wir mit neurographischem Zeichnen der inneren Klarheit Raum – für ein persönliches Projekt oder eine Veränderung\, die Du anstrebst\, aber vielleicht noch zögert. \n🌀 Was erwartet Dich? \n\nDu zeichnest Dir den Weg frei: raus aus dem Gedankenkarussell – hin zu neuer Motivation.\nBlockierende Emotionen lösen sich – hilfreiche Impulse zeigen sich.\nDeine fertige Zeichnung wird zum Anker\, der Dich auch zu Hause unterstützt und stärkt.\n\n🌈 Für welche Lebensbereiche eignet sich das? \n\nBerufliche oder private Veränderungen\nPhasen mit stagnierender Energie oder unklarer Richtung\nIdeen\, die auf Umsetzung warten\n\n✏️ Was Du mitbringen solltest: \n\nFineliner (0\,5 mm\, schwarz)\nFilzstift (ca. 1 mm)\nBuntstifte (6–13 Farben genügen)\nWeißes Druckerpapier\n\n🧠 Neu dabei?\nWenn Du noch keine Erfahrung mit neurographischem Zeichnen hast\, bekommst Du vorab eine kurze Einführung – einfach Bescheid geben! \n📅 Anmeldung bis Donnerstag erbeten.\nIch freue mich auf einen bereichernden\, kreativen Abend mit Dir! \nHerzlichst\nEure Gertraud Fischer\nHeilpraktikerin für Psychotherapie\nNeurographik-Spezialistin®
URL:https://kreative-therapie-hof.de/event/auf-zu-neuen-ufern-mit-energetischem-zeichnen-3/
ATTACH;FMTTYPE=image/png:https://kreative-therapie-hof.de/wp-content/uploads/jgg0qx8l.png
END:VEVENT
END:VCALENDAR