BEGIN:VCALENDAR
VERSION:2.0
PRODID:-//Kreative Therapie Hof - ECPv5.1.6//NONSGML v1.0//EN
CALSCALE:GREGORIAN
METHOD:PUBLISH
X-WR-CALNAME:Kreative Therapie Hof
X-ORIGINAL-URL:https://kreative-therapie-hof.de
X-WR-CALDESC:Veranstaltungen für Kreative Therapie Hof
BEGIN:VTIMEZONE
TZID:Europe/Helsinki
BEGIN:DAYLIGHT
TZOFFSETFROM:+0200
TZOFFSETTO:+0300
TZNAME:EEST
DTSTART:20240331T010000
END:DAYLIGHT
BEGIN:STANDARD
TZOFFSETFROM:+0300
TZOFFSETTO:+0200
TZNAME:EET
DTSTART:20241027T010000
END:STANDARD
END:VTIMEZONE
BEGIN:VEVENT
DTSTART;TZID=Europe/Helsinki:20240323T130000
DTEND;TZID=Europe/Helsinki:20240323T160000
DTSTAMP:20260421T172703
CREATED:20240302T193954Z
LAST-MODIFIED:20240302T193954Z
UID:1489-1711198800-1711209600@kreative-therapie-hof.de
SUMMARY:Beziehungen klären
DESCRIPTION:Steckst du gerade in einer blockierten\,\nkonfliktbehafteten Beziehung-\nin der Partnerschaft\,\nmit Kindern oder einer Freundin? \nIn diesem Workshop wirst Du mithilfe\nneurographischen Zeichnens\nwieder Klarheit für Dich finden\,\n– Antworten\, Lösungen\,\num Dich in der Beziehung wieder wohl zu fühlen. \nEine befreiende Art\,\nmanches an Konfliktpotential aus anderer Warte zu sehen\,\nBlockaden zu lösen und\ndie Kommunikation wieder in Bewegung zu bringen. \nIch freue mich\,\nin kleiner Gruppe\nDich achtsam und wertschätzend\nin Deinem Prozess begleiten zu dürfen. \n 
URL:https://kreative-therapie-hof.de/event/beziehungen-klaeren/
LOCATION:Schödlas 2\, 95213 Münchberg\, 95213\, Deutschland
ATTACH;FMTTYPE=image/jpeg:https://kreative-therapie-hof.de/wp-content/uploads/356418162_6513123198781981_609774686263103335_n.jpg
END:VEVENT
END:VCALENDAR