BEGIN:VCALENDAR
VERSION:2.0
PRODID:-//Kreative Therapie Hof - ECPv5.1.6//NONSGML v1.0//EN
CALSCALE:GREGORIAN
METHOD:PUBLISH
X-WR-CALNAME:Kreative Therapie Hof
X-ORIGINAL-URL:https://kreative-therapie-hof.de
X-WR-CALDESC:Veranstaltungen für Kreative Therapie Hof
BEGIN:VTIMEZONE
TZID:Europe/Helsinki
BEGIN:DAYLIGHT
TZOFFSETFROM:+0200
TZOFFSETTO:+0300
TZNAME:EEST
DTSTART:20210328T010000
END:DAYLIGHT
BEGIN:STANDARD
TZOFFSETFROM:+0300
TZOFFSETTO:+0200
TZNAME:EET
DTSTART:20211031T010000
END:STANDARD
END:VTIMEZONE
BEGIN:VEVENT
DTSTART;TZID=Europe/Helsinki:20211130T200000
DTEND;TZID=Europe/Helsinki:20211130T203000
DTSTAMP:20260420T123453
CREATED:20211127T131746Z
LAST-MODIFIED:20211127T132002Z
UID:990-1638302400-1638304200@kreative-therapie-hof.de
SUMMARY:Bleib in Deiner Mitte
DESCRIPTION:Onlineveranstaltung \nMit der Kraft des Atems\nund einer einfachen\,\nliebevoll angeleiteten Übung aus dem Heilströmen\,\nkannst Du Dich jederzeit unterstützen\,\num \n*Dich besser wahrzunehmen\,\n*Dich zu zentrieren\n*bei Dir zu bleiben\,\n*achtsam mit Dir zu sein\,\n*Dich zu stärken\,\n*Dich zu entspannen. \nIch freu mich auf unsere gemeinsame Zeit.\nWenn Du teilnehmen möchtest\,\nmelde Dich bitte bei mir\, damit ich Dir den Zugangslink schicken kann.
URL:https://kreative-therapie-hof.de/event/bleib-in-deiner-mitte/
LOCATION:Zoommeeting
END:VEVENT
END:VCALENDAR