BEGIN:VCALENDAR
VERSION:2.0
PRODID:-//Kreative Therapie Hof - ECPv5.1.6//NONSGML v1.0//EN
CALSCALE:GREGORIAN
METHOD:PUBLISH
X-WR-CALNAME:Kreative Therapie Hof
X-ORIGINAL-URL:https://kreative-therapie-hof.de
X-WR-CALDESC:Veranstaltungen für Kreative Therapie Hof
BEGIN:VTIMEZONE
TZID:Europe/Helsinki
BEGIN:DAYLIGHT
TZOFFSETFROM:+0200
TZOFFSETTO:+0300
TZNAME:EEST
DTSTART:20200329T010000
END:DAYLIGHT
BEGIN:STANDARD
TZOFFSETFROM:+0300
TZOFFSETTO:+0200
TZNAME:EET
DTSTART:20201025T010000
END:STANDARD
END:VTIMEZONE
BEGIN:VEVENT
DTSTART;TZID=Europe/Helsinki:20201102T090000
DTEND;TZID=Europe/Helsinki:20201130T170000
DTSTAMP:20260421T132131
CREATED:20201030T185834Z
LAST-MODIFIED:20201030T185834Z
UID:667-1604307600-1606755600@kreative-therapie-hof.de
SUMMARY:Einzeltermine im November
DESCRIPTION:Auch im November biete ich Einzeltermine in meiner Praxis\nund Telefonberatung an. \nGruppen entfallen aus gegebenem Anlass in diesem Monat. \nTerminvereinbarung per Telefon 09256/1786 oder 017697923523 \n  \n 
URL:https://kreative-therapie-hof.de/event/einzeltermine-im-november/
END:VEVENT
END:VCALENDAR