BEGIN:VCALENDAR
VERSION:2.0
PRODID:-//Kreative Therapie Hof - ECPv5.1.6//NONSGML v1.0//EN
CALSCALE:GREGORIAN
METHOD:PUBLISH
X-WR-CALNAME:Kreative Therapie Hof
X-ORIGINAL-URL:https://kreative-therapie-hof.de
X-WR-CALDESC:Veranstaltungen für Kreative Therapie Hof
BEGIN:VTIMEZONE
TZID:Europe/Helsinki
BEGIN:DAYLIGHT
TZOFFSETFROM:+0200
TZOFFSETTO:+0300
TZNAME:EEST
DTSTART:20230326T010000
END:DAYLIGHT
BEGIN:STANDARD
TZOFFSETFROM:+0300
TZOFFSETTO:+0200
TZNAME:EET
DTSTART:20231029T010000
END:STANDARD
END:VTIMEZONE
BEGIN:VEVENT
DTSTART;TZID=Europe/Helsinki:20231125T140000
DTEND;TZID=Europe/Helsinki:20231125T170000
DTSTAMP:20260420T160634
CREATED:20231108T212157Z
LAST-MODIFIED:20231112T131702Z
UID:1396-1700920800-1700931600@kreative-therapie-hof.de
SUMMARY:Energetisch Zeichnen - wecke Deine Schöpferkraft
DESCRIPTION:Deine Urweibliche/ urmännliche Kraft: \nerfühle sie\,\nerfahre sie\nerspüre sie\,\nstärke sie \,\nnutze sie \nfür Dein Leben – Deine Projekte\, \nindem Du die Kraft Deiner Ahnen\nmit ins Boot holst. \nDu  nutzt neurographisches Zeichnen- eine ganzheitliche Methode (nach Dr.Pavel Piscarev)\, \nachtsam\,\nstärkend\,\nkreativ und wertschätzend\, \ndamit positive\,\nblockierte Kräfte in Deinem Ahnensystem wieder ins Fließen kommen\,\nund für Dich  für Dein Dasein und Deine Aufgaben\nim Hier und Jetzt\nzur Verfügung stehen\,\num Dich zu stärken. \nSolltest Du noch nie neurographisch gezeichnet haben\,\ntreffen wir uns eine halbe Stunde online \,\ndamit Du das Wichtigste dazu erfährst (kein Basiskurs!) \nMelde Dich bei mir! \nIch freue mich auf wohltuende kreative Stunden mit Dir🥰. \nBitte melde Dich 3 Tage vor dem jeweiligen Termin an.\nDeine Gertraud Fischer
URL:https://kreative-therapie-hof.de/event/energetisch-zeichnen/
LOCATION:Schödlas 2\, 95213 Münchberg\, 95213\, Deutschland
ATTACH;FMTTYPE=image/jpeg:https://kreative-therapie-hof.de/wp-content/uploads/Ahnenarbeit-doris-buergel.jpg
ORGANIZER;CN="Gertraud%20Fischer":MAILTO:gertraudfischer@gmx.de
END:VEVENT
END:VCALENDAR