BEGIN:VCALENDAR
VERSION:2.0
PRODID:-//Kreative Therapie Hof - ECPv5.1.6//NONSGML v1.0//EN
CALSCALE:GREGORIAN
METHOD:PUBLISH
X-WR-CALNAME:Kreative Therapie Hof
X-ORIGINAL-URL:https://kreative-therapie-hof.de
X-WR-CALDESC:Veranstaltungen für Kreative Therapie Hof
BEGIN:VTIMEZONE
TZID:Europe/Helsinki
BEGIN:DAYLIGHT
TZOFFSETFROM:+0200
TZOFFSETTO:+0300
TZNAME:EEST
DTSTART:20250330T010000
END:DAYLIGHT
BEGIN:STANDARD
TZOFFSETFROM:+0300
TZOFFSETTO:+0200
TZNAME:EET
DTSTART:20251026T010000
END:STANDARD
END:VTIMEZONE
BEGIN:VEVENT
DTSTART;TZID=Europe/Helsinki:20251111T190000
DTEND;TZID=Europe/Helsinki:20251111T203000
DTSTAMP:20260420T124107
CREATED:20251103T210905Z
LAST-MODIFIED:20251103T210905Z
UID:1886-1762887600-1762893000@kreative-therapie-hof.de
SUMMARY:Energetisches Zeichnen - Übungsabend
DESCRIPTION:Energetisches Zeichnen – Übungsabende ✨ \n📅 11.11. & 25.11.\n19:00 – 20:30 Uhr\nIn meiner Praxis (3-5 Personen)\nGemeinsam üben wir:\n✔ Fertigstellen von Zeichnungen\n✔ Neurographisches Zeichnen – Technik\n✔ Bionische Linien & Abrunden\n✔ Umgang mit Farbe & Formen \nEs geht nicht um Perfektion\, sondern um einzelne Elemente\,\ndie ich nach Bedarf aufgreife.\nAuch besonders auf\nLesen der Zeichnung\nKörperwahrnehmung\, Gefühlsregulation und Mentaltraining lege ich Wert. \nÜbung macht den Meister – ich begleite Dich auf Deinem Weg!\n👉 Anmeldung bis 2 Tage vorher\nMein Honorar beträgt 20 €/Person\n⚠ Begrenzte Plätze!\nInteresse? Schreib mir direkt! \nDieser Abend ersetzt keine Therapie.\nSolltest Du ein tieferliegendes Thema bearbeiten wollen\,\ndann vereinbare gerne einen Termin zu einer 1:1 Sitzung.
URL:https://kreative-therapie-hof.de/event/energetisches-zeichnen-uebungsabend/
LOCATION:Schödlas 2\, 95213 Münchberg\, 95213\, Deutschland
ATTACH;FMTTYPE=image/jpeg:https://kreative-therapie-hof.de/wp-content/uploads/Abrunden.jpg
ORGANIZER;CN="Gertraud%20Fischer":MAILTO:gertraudfischer@gmx.de
END:VEVENT
END:VCALENDAR