BEGIN:VCALENDAR
VERSION:2.0
PRODID:-//Kreative Therapie Hof - ECPv5.1.6//NONSGML v1.0//EN
CALSCALE:GREGORIAN
METHOD:PUBLISH
X-WR-CALNAME:Kreative Therapie Hof
X-ORIGINAL-URL:https://kreative-therapie-hof.de
X-WR-CALDESC:Veranstaltungen für Kreative Therapie Hof
BEGIN:VTIMEZONE
TZID:Europe/Helsinki
BEGIN:DAYLIGHT
TZOFFSETFROM:+0200
TZOFFSETTO:+0300
TZNAME:EEST
DTSTART:20220327T010000
END:DAYLIGHT
BEGIN:STANDARD
TZOFFSETFROM:+0300
TZOFFSETTO:+0200
TZNAME:EET
DTSTART:20221030T010000
END:STANDARD
END:VTIMEZONE
BEGIN:VEVENT
DTSTART;TZID=Europe/Helsinki:20220629T190000
DTEND;TZID=Europe/Helsinki:20220629T210000
DTSTAMP:20260420T140429
CREATED:20220531T201432Z
LAST-MODIFIED:20220531T201432Z
UID:1094-1656529200-1656536400@kreative-therapie-hof.de
SUMMARY:Engelabend - eine Einführung
DESCRIPTION:Engel unsere  Beschützer und Helfer\nZur Ruhe kommen und Kraft tanken \nEngel sind uns unterstützende und heilsame Helfer und Begleiter\nim täglichen Leben\,\num hier in diesem Leben unsere  Herausforderungen und Aufgaben zu meistern. \nMir ist eine achtsame und  geerdete Spiritualität besonders wichtig\,\nkeine abgehobene Spiritualität\,\nsondern Spiritualität\, die  der eigenen Entwicklung\, Entfaltung  und Heilung dient\,\ndie Körper\, Seele\,  Geist\, die Natur\, Erde und Himmel einbezieht\,\ndie dazu dient\, die Herausforderungen hier im Leben zu meistern und nicht davor zu fliehen. \nIch lade Dich an diesem Abend  ein\,\nheilsamen Energien der Engel im Wahrnehmen anzuspüren\,\nund Dich mit Düften\, Farben und Tanz auf eine  gemeinsame Reise zu begeben.\nGelebte Spiritualität ermöglicht es\, hier auf der Erde kraftvoll wirken und  leben zu können. \nSoweit Bedarf besteht\,\nwerde ich im  Juli und August je einen intensiven Tagesworkshop (Termin folgt)\nmit  Engeln anbieten. \nDazu gehen wir in die Natur und verbinden uns mit der Kraft der Elemente\,\nwerden Naturrituale gestalten\,\ntanzen und sicher noch auf die eine oder andere Weise kreativ sein\,\num\ndie eigenen Mitte zu stärken\nBelastungen die nicht mehr dienen\, abzulegen\,\nneue Lebensräume zu erkunden und zu erfahren\npersönliche Grenzen zu erforschen und zu erweitern\,\neigene Ressourcen zu stärken\,\ndie eigene Schöpferkraft zu stärken\,\ndie eigene Wahrnehmung zu sensibilisieren und ihr vertrauen zu lernen\,\nDich in Deiner Ganzheit zu erleben\,\ndie Kraft bestimmter Engel  gezielt zu spüren und einsetzen  lernen.\nDu kannst an einem persönlichen Thema arbeiten.\nDa die Gruppe klein sein wird\,  kann ich individuell begleiten. \nEngelabende und Workshops ersetzen keine Therapie. \nSie dienen der Selbsterfahrung und der  Stärkung der eigenen Selbstheilungskraft. \nAnmeldung unter 0176 97923523 oder gertraudfischer@gmx.de \n  \n 
URL:https://kreative-therapie-hof.de/event/engelabend-eine-einfuehrung/
END:VEVENT
END:VCALENDAR