BEGIN:VCALENDAR
VERSION:2.0
PRODID:-//Kreative Therapie Hof - ECPv5.1.6//NONSGML v1.0//EN
CALSCALE:GREGORIAN
METHOD:PUBLISH
X-WR-CALNAME:Kreative Therapie Hof
X-ORIGINAL-URL:https://kreative-therapie-hof.de
X-WR-CALDESC:Veranstaltungen für Kreative Therapie Hof
BEGIN:VTIMEZONE
TZID:Europe/Helsinki
BEGIN:DAYLIGHT
TZOFFSETFROM:+0200
TZOFFSETTO:+0300
TZNAME:EEST
DTSTART:20240331T010000
END:DAYLIGHT
BEGIN:STANDARD
TZOFFSETFROM:+0300
TZOFFSETTO:+0200
TZNAME:EET
DTSTART:20241027T010000
END:STANDARD
END:VTIMEZONE
BEGIN:VEVENT
DTSTART;TZID=Europe/Helsinki:20240710T190000
DTEND;TZID=Europe/Helsinki:20240710T203000
DTSTAMP:20260421T140108
CREATED:20240103T204508Z
LAST-MODIFIED:20240702T134316Z
UID:1462-1720638000-1720643400@kreative-therapie-hof.de
SUMMARY:fortlaufende kreativ-therapeutische Gruppe
DESCRIPTION:1 mal monatlich in einer Gruppe von 3-5 Teilnehmerinnen. \nThema: Im Körper zu Hause – im Leben zu Hause \nAufgrund der kleinen Gruppengröße arbeite ich individuell\nund stimme mich mit den Bedürfnissen der Gruppe ab. \nMein kreativtherapeutisches Angebot besteht aus\nBewegung und Tanz mit und ohne Musik\nÜbungen aus der Tanz- und Ausdruckstherapie\,\nfür eine\nfreudvolle Körper – und Selbstwahrnehmung\,\nintuitivem\, absichtlosen Malen\,\nenergetischem Zeichnen\,\nMeditation\nund Schreiben und Gespräch. \nDiese Workshopreihe dient Dir\nzur Emotionsregulation\,\nwirkt stabilisierend\,\nist ressourcenorientiert. \nDer Abend findet in\nin achtsamer\, wertschätzender Atmmosphäre statt und\nich leite entsprechend der Bedürfnisse der Gruppe an. \nEs sind keine Vorkenntnisse erforderlich \nAnmeldung  ist bis zum Vorabend der Veranstaltung erforderlich. \nDas Angebot ersetzt keine Psychotherapie.\nWenn Du das erste Mal zur Gruppe kommst\,\nbiete ich Dir ein telefonisches Vorgspräch an. \nDie Gruppe ersetzt keine Psychotherapie\,\nkann jedoch begleitend zu einer Behandlung\noder nach einem Klinikaufenthalt unterstützen. \nMail: gertraudfischer@gmx.de
URL:https://kreative-therapie-hof.de/event/fortlaufende-tanztherapeutische-gruppe/
LOCATION:Schödlas 2\, 95213 Münchberg\, 95213\, Deutschland
ATTACH;FMTTYPE=image/jpeg:https://kreative-therapie-hof.de/wp-content/uploads/befreites-blau.jpg
END:VEVENT
END:VCALENDAR