BEGIN:VCALENDAR
VERSION:2.0
PRODID:-//Kreative Therapie Hof - ECPv5.1.6//NONSGML v1.0//EN
CALSCALE:GREGORIAN
METHOD:PUBLISH
X-WR-CALNAME:Kreative Therapie Hof
X-ORIGINAL-URL:https://kreative-therapie-hof.de
X-WR-CALDESC:Veranstaltungen für Kreative Therapie Hof
BEGIN:VTIMEZONE
TZID:Europe/Helsinki
BEGIN:DAYLIGHT
TZOFFSETFROM:+0200
TZOFFSETTO:+0300
TZNAME:EEST
DTSTART:20240331T010000
END:DAYLIGHT
BEGIN:STANDARD
TZOFFSETFROM:+0300
TZOFFSETTO:+0200
TZNAME:EET
DTSTART:20241027T010000
END:STANDARD
END:VTIMEZONE
BEGIN:VEVENT
DTSTART;TZID=Europe/Helsinki:20241227T190000
DTEND;TZID=Europe/Helsinki:20241227T210000
DTSTAMP:20260421T121202
CREATED:20210728T111119Z
LAST-MODIFIED:20250102T212019Z
UID:933-1735326000-1735333200@kreative-therapie-hof.de
SUMMARY:Wohlfühlabend - Seelenzeit für Frauen
DESCRIPTION:Eine erholsame Auszeit zum Jahresende \nmit einer geführten\, wohltuenden Entspannungsreise \nDich in in Deinem Körper zu Hause fühlen\,\nDich  mitteilen und\nmit Frauen im Gespräch austauschen\,\nVerbundenheit erleben. \nErfahren und erspüren\, was Dich\nbei körperlicher und seelischer Harmonisierung\,\nzur inneren Balance\,\nund Stärkung Deiner  seelischen und somit auch  körperlichen Gesundheit\nunterstützen kann.\nBringe bitte ein Kissen und eine Decke mit. \nAnmeldeschluss ist Donnerstag\,26.12.2024 \nDer Abend findet ab 3 Teilnehmerinnen statt. \n 
URL:https://kreative-therapie-hof.de/event/frauenwohlfuehlabend/
LOCATION:Gertraud Fischer\, Schödlas 2\, Münchberg\, 95213
ATTACH;FMTTYPE=image/jpeg:https://kreative-therapie-hof.de/wp-content/uploads/Neujahr-2022.jpg
ORGANIZER;CN="Gertraud%20Fischer":MAILTO:gertraudfischer@gmx.de
END:VEVENT
END:VCALENDAR