BEGIN:VCALENDAR
VERSION:2.0
PRODID:-//Kreative Therapie Hof - ECPv5.1.6//NONSGML v1.0//EN
CALSCALE:GREGORIAN
METHOD:PUBLISH
X-WR-CALNAME:Kreative Therapie Hof
X-ORIGINAL-URL:https://kreative-therapie-hof.de
X-WR-CALDESC:Veranstaltungen für Kreative Therapie Hof
BEGIN:VTIMEZONE
TZID:Europe/Helsinki
BEGIN:DAYLIGHT
TZOFFSETFROM:+0200
TZOFFSETTO:+0300
TZNAME:EEST
DTSTART:20230326T010000
END:DAYLIGHT
BEGIN:STANDARD
TZOFFSETFROM:+0300
TZOFFSETTO:+0200
TZNAME:EET
DTSTART:20231029T010000
END:STANDARD
END:VTIMEZONE
BEGIN:VEVENT
DTSTART;TZID=Europe/Helsinki:20231108T190000
DTEND;TZID=Europe/Helsinki:20231108T203000
DTSTAMP:20260420T135921
CREATED:20231102T111757Z
LAST-MODIFIED:20231102T112227Z
UID:1382-1699470000-1699475400@kreative-therapie-hof.de
SUMMARY:Fühle Dich in Deinem Körper wohl und zu Hause
DESCRIPTION:Der  Kurs ist für Frauen und Männer mit einer gestörten\,\nbelastenden  Beziehung zum eigenen Körper\nund /oder mit Essstörungen gedacht. \nUm zu wissen\, ob der Workshop für Sie geeignet ist\, biete ich ein einmaliges\nunverbindlich Schnuppern am 8. 11. 2023 von  19  bis 20.30 Uhr an.\nDie Teilnehmergebühr beträgt 10 € an. \nSollte Sie sich anschließend  für mein Angebot entscheiden\, empfehle ich Ihnen ein 3er Kurspaketpaket\,\ndenn meiner Erfahrung nach braucht es ein „Dranbleiben“ und  Übung\,\ndamit sich Erfolg einstellen  kann. \nIch begleite Sie mit meinen persönlichen  und  therapeutischen Erfahrungen\,\nden eigenen Körper kennen und lieben zu lernen. \nEin niederschwelliges therapeutisches Angebot im Paket von 3  Abenden  a`22 € \, gesamt 66 Euro. \nFür weitere Fragen und Informationen stehe ich Ihnen  zum Kennenlernabend zur Verfügung. \nAnmeldung ist bis zum 6. November erforderlich.\nSie brauchen bequeme Kleidung und eine Decke. \n  \nMeine eigenen Essstörungen haben mich dazu aufgefordert\, an mir zu arbeiten.\nIch habe meine Körper kennen – und lieben gelernt\nund ich fühle mich jetzt in meinem Körper und in meinem  Leben angekommen.\nNicht immer\, jedoch sehr oft fühle ich mich glücklich\, weil ich auch in mir zu Hause bin. \nEben weil ich das selbst erlebt habe\, freue ich ich\, meine Erfahren zu  mein Wissen teilen. \n  \nIhre Gertraud Fischer
URL:https://kreative-therapie-hof.de/event/fuehle-dich-in-deinem-koerper-wohl-und-zu-hause/
LOCATION:Schödlas 2\, 95213 Münchberg\, 95213\, Deutschland
ATTACH;FMTTYPE=image/jpeg:https://kreative-therapie-hof.de/wp-content/uploads/Atome-Wasser-Luft.jpg
END:VEVENT
END:VCALENDAR