BEGIN:VCALENDAR
VERSION:2.0
PRODID:-//Kreative Therapie Hof - ECPv5.1.6//NONSGML v1.0//EN
CALSCALE:GREGORIAN
METHOD:PUBLISH
X-WR-CALNAME:Kreative Therapie Hof
X-ORIGINAL-URL:https://kreative-therapie-hof.de
X-WR-CALDESC:Veranstaltungen für Kreative Therapie Hof
BEGIN:VTIMEZONE
TZID:Europe/Helsinki
BEGIN:DAYLIGHT
TZOFFSETFROM:+0200
TZOFFSETTO:+0300
TZNAME:EEST
DTSTART:20240331T010000
END:DAYLIGHT
BEGIN:STANDARD
TZOFFSETFROM:+0300
TZOFFSETTO:+0200
TZNAME:EET
DTSTART:20241027T010000
END:STANDARD
END:VTIMEZONE
BEGIN:VEVENT
DTSTART;TZID=Europe/Helsinki:20240813T090000
DTEND;TZID=Europe/Helsinki:20240813T110000
DTSTAMP:20260421T110614
CREATED:20240616T081138Z
LAST-MODIFIED:20240801T091709Z
UID:1517-1723539600-1723546800@kreative-therapie-hof.de
SUMMARY:Vom Kopf ins Herz mit energetischem Zeichnen
DESCRIPTION:Dienstag\, 13.08.24 von  9 Uhr bis 11 Uhr (Vormittagsworkshop)\nDienstag\, 27.08.24 von 19 bis 21 Uhr (Abendworkshop) \nmithilfe des neurographischen Zeichnens. \nMit einem Bodyscan im Körper ankommen\,\ndie Gelenke  lockern\,\nabsichtslose Linien zeichnen\,\nGedanken und Emotionen aufs Papier in die Linien  fließen lassen\,\natmen\,\nden Körper wahrnehmen\,\ninnerlich frei werden und im Körper ankommen.\nEntspannung erleben und den Herzensraum öffnen. \nKursgebühr 22 € \nAnmeldung ist  erforderlich.\nTeilnehmerzahl 3-5 Personen. \nDu brauchst einen schwarzen Fineliner 0\,3 oder 0\,5\neinen dickeren schwarzen Filzstift\nBuntstifte\nein weißes DIN A 4 Papier \nMein  Atelier- und Praxisraum:\nSchödlas 2\n95213 Münchberg \nAnmeldung 0176/97923523\nGertraud Fischer\nNeurographikSpezialistin\nTanz-und Ausdruckstherapeutin
URL:https://kreative-therapie-hof.de/event/herzensangelegenheit-neurographik/
LOCATION:Schödlas 2\, 95213 Münchberg\, 95213\, Deutschland
ATTACH;FMTTYPE=image/jpeg:https://kreative-therapie-hof.de/wp-content/uploads/Ahnenarbeit-Susan-Schoelzel.jpg
END:VEVENT
END:VCALENDAR