BEGIN:VCALENDAR
VERSION:2.0
PRODID:-//Kreative Therapie Hof - ECPv5.1.6//NONSGML v1.0//EN
CALSCALE:GREGORIAN
METHOD:PUBLISH
X-WR-CALNAME:Kreative Therapie Hof
X-ORIGINAL-URL:https://kreative-therapie-hof.de
X-WR-CALDESC:Veranstaltungen für Kreative Therapie Hof
BEGIN:VTIMEZONE
TZID:Europe/Helsinki
BEGIN:DAYLIGHT
TZOFFSETFROM:+0200
TZOFFSETTO:+0300
TZNAME:EEST
DTSTART:20230326T010000
END:DAYLIGHT
BEGIN:STANDARD
TZOFFSETFROM:+0300
TZOFFSETTO:+0200
TZNAME:EET
DTSTART:20231029T010000
END:STANDARD
END:VTIMEZONE
BEGIN:VEVENT
DTSTART;TZID=Europe/Helsinki:20230809T190000
DTEND;TZID=Europe/Helsinki:20230809T203000
DTSTAMP:20260420T122246
CREATED:20230701T112632Z
LAST-MODIFIED:20230808T121410Z
UID:1322-1691607600-1691613000@kreative-therapie-hof.de
SUMMARY:Ich bin gut so\, wie ich bin! (mit neurographischem Zeichnen)
DESCRIPTION:Zeichnen als Wegbegleiter \nDas Zeichnen mit neurographischen Linien\, Kreisen und Farben\nfindet 14 tägig in offener Gruppe statt. \nNeurographisches Zeichnen (prozessorientiertes Zeichnen)\,\n* eine alltagstaugliche Methode\,\n* einfach zu praktizieren\,\n* zur Stärkung und Stabilisierung\,\n* zur positiven Ausrichtung Deiner Gedanken\,\n* zur Harmonisierung Deiner Gefühle\n* zur Selbstwertstärkung\n* hilfreich in Wandlungsphasen \nDu kannst einfach beginnen\,\nohne Vorkenntnisse\,\nes geht nicht um Perfektion! \nIch freu mich\,\nDich mit prozessorientiertem Zeichnen begleiten\nund unterstützen zu dürfen. \nDu brauchst:\nweißes Papier DIN  A 4\nSchwarzer Fineliner\nschwarzer Filzstift\nBuntstifte und los geht`s. \nAnmeldung bis 8.8.2023. \nHerzliche Grüße\nGertraud Fischer\nNeurographikSpezialistin
URL:https://kreative-therapie-hof.de/event/ich-bin-gut-so-wie-ich-bin/
LOCATION:Gertraud Fischer\, Schödlas 2\, Münchberg\, 95213
ATTACH;FMTTYPE=image/jpeg:https://kreative-therapie-hof.de/wp-content/uploads/Juni-23.jpg
ORGANIZER;CN="Gertraud%20Fischer":MAILTO:gertraudfischer@gmx.de
END:VEVENT
END:VCALENDAR