BEGIN:VCALENDAR
VERSION:2.0
PRODID:-//Kreative Therapie Hof - ECPv5.1.6//NONSGML v1.0//EN
CALSCALE:GREGORIAN
METHOD:PUBLISH
X-WR-CALNAME:Kreative Therapie Hof
X-ORIGINAL-URL:https://kreative-therapie-hof.de
X-WR-CALDESC:Veranstaltungen für Kreative Therapie Hof
BEGIN:VTIMEZONE
TZID:Europe/Helsinki
BEGIN:DAYLIGHT
TZOFFSETFROM:+0200
TZOFFSETTO:+0300
TZNAME:EEST
DTSTART:20230326T010000
END:DAYLIGHT
BEGIN:STANDARD
TZOFFSETFROM:+0300
TZOFFSETTO:+0200
TZNAME:EET
DTSTART:20231029T010000
END:STANDARD
END:VTIMEZONE
BEGIN:VEVENT
DTSTART;TZID=Europe/Helsinki:20231011T190000
DTEND;TZID=Europe/Helsinki:20231011T203000
DTSTAMP:20260420T155902
CREATED:20230401T130016Z
LAST-MODIFIED:20231001T200402Z
UID:1270-1697050800-1697056200@kreative-therapie-hof.de
SUMMARY:Zeichne Dich frei - mit  Linien und Kreisen
DESCRIPTION:mithilfe des neurographischen Zeichnens. \nDu möchtestDir selbst näher kommen\,Dich wohler in Dir\, in Deinem Körper fühlen\,emotional ausgeglichener sein?Neurographisches Zeichnen ist eine Möglichkeit\, zu erspüren\, wie sich das anfühlt und den Weg dorthin zu beschreiten. \nIn diesem Workshop kannst du es kennenlernen\,die Wirkung erspüren oderes üben und verfeinern\, wenn du schon erfahren bist. \nDabei kannst Duden Kopf frei machen\,entspannenzur Ruhe kommen\, neue Impulse für Deinen Alltag bekommenKraft schöpfen\, Dich harmonisieren\,  Deine innere Mitte wahrnehmen. \nEs sind keinerlei Vorkenntnisse erforderlich.  Bitte komme in bequemer Kleidung. Dein Beitrag für diesen Abend beträgt 21 €. \nDu brauchst:ein Blatt weißes A 4 Papier1 schwarzen Finelinereinen dickeren schwarzen FilzstiftBuntstifte \nAnmeldeschluss ist Montag\, 9. 10. 2023 \nTeilnehmerzahl 3 bis 5 Personen.
URL:https://kreative-therapie-hof.de/event/infoabend-neurographisches-zeichnen-was-ist-das/
LOCATION:Schödlas 2\, 95213 Münchberg\, 95213\, Deutschland
ATTACH;FMTTYPE=image/jpeg:https://kreative-therapie-hof.de/wp-content/uploads/356418162_6513123198781981_609774686263103335_n.jpg
ORGANIZER;CN="Gertraud%20Fischer":MAILTO:gertraudfischer@gmx.de
END:VEVENT
END:VCALENDAR