BEGIN:VCALENDAR
VERSION:2.0
PRODID:-//Kreative Therapie Hof - ECPv5.1.6//NONSGML v1.0//EN
CALSCALE:GREGORIAN
METHOD:PUBLISH
X-WR-CALNAME:Kreative Therapie Hof
X-ORIGINAL-URL:https://kreative-therapie-hof.de
X-WR-CALDESC:Veranstaltungen für Kreative Therapie Hof
BEGIN:VTIMEZONE
TZID:Europe/Helsinki
BEGIN:DAYLIGHT
TZOFFSETFROM:+0200
TZOFFSETTO:+0300
TZNAME:EEST
DTSTART:20220327T010000
END:DAYLIGHT
BEGIN:STANDARD
TZOFFSETFROM:+0300
TZOFFSETTO:+0200
TZNAME:EET
DTSTART:20221030T010000
END:STANDARD
END:VTIMEZONE
BEGIN:VEVENT
DTSTART;TZID=Europe/Helsinki:20220917T140000
DTEND;TZID=Europe/Helsinki:20220917T160000
DTSTAMP:20260421T135548
CREATED:20220902T214335Z
LAST-MODIFIED:20220914T204424Z
UID:1117-1663423200-1663430400@kreative-therapie-hof.de
SUMMARY:Intuitives Malen -  Kennenlernworkshop
DESCRIPTION:Ein Schnupperkurs\num intuitives\, heilsames Malen kennen zu lernen. \nVorkenntnisse sind nicht erforderlich. \nDas Material wird gestellt(Pastellkreide\, geeignetes Papier). \nEs geht um Selbsterfahrung mit Körperwahrnehmung\,\nder Stimme des Körpers lauschen und\nAusdruck der Emotionen und Gefühle mit  intuitivem Malen.\nGanz nebenbei wird ein Bild mit Ihrem ganz persönlichen Ausdruck  entstehen. \nBittte melden Sie sich bei Interesse bis zum Freitag\, den 16. 9. 2022 an.\nVeranstaltungsort: in meiner  Praxis\, Münchberg\, Schödlas 2 \n0176/97923523 \n  \n 
URL:https://kreative-therapie-hof.de/event/intuitives-malen-kennenlernworkshop/
END:VEVENT
END:VCALENDAR