BEGIN:VCALENDAR
VERSION:2.0
PRODID:-//Kreative Therapie Hof - ECPv5.1.6//NONSGML v1.0//EN
CALSCALE:GREGORIAN
METHOD:PUBLISH
X-WR-CALNAME:Kreative Therapie Hof
X-ORIGINAL-URL:https://kreative-therapie-hof.de
X-WR-CALDESC:Veranstaltungen für Kreative Therapie Hof
BEGIN:VTIMEZONE
TZID:Europe/Helsinki
BEGIN:DAYLIGHT
TZOFFSETFROM:+0200
TZOFFSETTO:+0300
TZNAME:EEST
DTSTART:20250330T010000
END:DAYLIGHT
BEGIN:STANDARD
TZOFFSETFROM:+0300
TZOFFSETTO:+0200
TZNAME:EET
DTSTART:20251026T010000
END:STANDARD
END:VTIMEZONE
BEGIN:VEVENT
DTSTART;TZID=Europe/Helsinki:20251213T130000
DTEND;TZID=Europe/Helsinki:20251213T170000
DTSTAMP:20260421T110555
CREATED:20251103T212702Z
LAST-MODIFIED:20251201T130756Z
UID:1889-1765630800-1765645200@kreative-therapie-hof.de
SUMMARY:Kreative Seelenzeit - heilsames  Malen und plastisches Gestalten
DESCRIPTION:Samstag\, 13. Dezember 2025 13.00 Uhr bis 17.00 Uhr \nWinterzeit – Wasserelement – loslassen für einen Neuanfang\nBegegne im kreativen Gestalten mit Farbe oder Ton dem Element Wasser.\nErfahre seine Qualität für Dein inneres Gleichgewicht und schöpferisches Wohlbefinden. \nDie  „Kreative Seelenzeit“ verbindet das schöpferische Malen mit tiefer\, heilsamer Persönlichkeitsentwicklung. \n🎨 Inhalte der Kreativen Seelenzeit \n\nSchöpferisches Malen & Gestalten\nFreies Malen mit Farben\, Formen und Symbolen\, die innere Prozesse sichtbar machen.\nPersönlichkeitsentwicklung\nKörperorientierte Übungen\, die helfen\, eigene Muster zu erkennen\, Ressourcen zu aktivieren und neue Perspektiven zu gewinnen.\nInnere Entfaltung\nRaum für Selbstreflexion\, Stille und Austausch\, um das eigene Potenzial zu entfalten.\nBegleitung in kleiner Gruppe\nIntensive Betreuung\, vertrauensvolle Atmosphäre und gegenseitige Inspiration.\n\n✨ Wirkung für die Teilnehmenden (3-5 Teilnehmerinnen) \n\nMehr Klarheit über eigene Wünsche und Ziele.\nStärkung der inneren Balance und Resilienz.\nFreude am kreativen Ausdruck ohne Leistungsdruck.\nGemeinschaftliches Wachstum in einer kleinen\, geschützten Gruppe.\nSelbstvertrauen stärken: durch kreative Ausdrucksformen.\nBlockaden lösen: mit gestalterischen Ansätzen.\nVisionen entwickeln: Wünsche und Ziele sichtbar machen und in Bilder übersetzen.\nAchtsamkeit & Entspannung: Malen als meditativer Prozess erleben.\n\n🎨 Für alle\, die sich nach Tiefe und gleichzeitig nach Leichtigkeit\,\nAusdruck und innerer Verbindung sehnen.\nEs sind keine Vorkenntnisse erforderlich. \nDie Workshops ersetzen keine Therapie.\nDas Material ist im Honorar von 56 € inbegriffen.
URL:https://kreative-therapie-hof.de/event/kreative-seelenzeit-energetisches-malen-und-gestalten/
LOCATION:Schödlas 2\, 95213 Münchberg\, 95213\, Deutschland
ATTACH;FMTTYPE=image/jpeg:https://kreative-therapie-hof.de/wp-content/uploads/Kreativer-Prozess-2.jpg
ORGANIZER;CN="Gertraud%20Fischer":MAILTO:gertraudfischer@gmx.de
END:VEVENT
END:VCALENDAR