BEGIN:VCALENDAR
VERSION:2.0
PRODID:-//Kreative Therapie Hof - ECPv5.1.6//NONSGML v1.0//EN
CALSCALE:GREGORIAN
METHOD:PUBLISH
X-WR-CALNAME:Kreative Therapie Hof
X-ORIGINAL-URL:https://kreative-therapie-hof.de
X-WR-CALDESC:Veranstaltungen für Kreative Therapie Hof
BEGIN:VTIMEZONE
TZID:Europe/Helsinki
BEGIN:DAYLIGHT
TZOFFSETFROM:+0200
TZOFFSETTO:+0300
TZNAME:EEST
DTSTART:20210328T010000
END:DAYLIGHT
BEGIN:STANDARD
TZOFFSETFROM:+0300
TZOFFSETTO:+0200
TZNAME:EET
DTSTART:20211031T010000
END:STANDARD
END:VTIMEZONE
BEGIN:VEVENT
DTSTART;TZID=Europe/Helsinki:20210710T140000
DTEND;TZID=Europe/Helsinki:20210710T160000
DTSTAMP:20260420T121142
CREATED:20210706T114352Z
LAST-MODIFIED:20210706T114352Z
UID:909-1625925600-1625932800@kreative-therapie-hof.de
SUMMARY:Malen als Weg
DESCRIPTION:Ein Intensivkurs mit intuitivem Malen \nin einer  kleiner Gruppe mit 3 bis 5 Personen. \nSelbsterfahrung mit Körperwahrnehmung und intuitivem Malen. \nVorkenntnisse sind nicht erforderlich. \nDas Material wird gestellt(Pastellkreide\, geeignetes Papier) \nBitte eine Decke mitbringen. \nBei schönem Wetter findet die Veranstaltung im Freien statt. \nAnmeldung\, den 9.7.2021 an \n 
URL:https://kreative-therapie-hof.de/event/malen-als-weg/
LOCATION:Gertraud Fischer\, Schödlas 2\, Münchberg\, 95213
ORGANIZER;CN="Gertraud%20Fischer":MAILTO:gertraudfischer@gmx.de
END:VEVENT
END:VCALENDAR