BEGIN:VCALENDAR
VERSION:2.0
PRODID:-//Kreative Therapie Hof - ECPv5.1.6//NONSGML v1.0//EN
CALSCALE:GREGORIAN
METHOD:PUBLISH
X-WR-CALNAME:Kreative Therapie Hof
X-ORIGINAL-URL:https://kreative-therapie-hof.de
X-WR-CALDESC:Veranstaltungen für Kreative Therapie Hof
BEGIN:VTIMEZONE
TZID:Europe/Helsinki
BEGIN:DAYLIGHT
TZOFFSETFROM:+0200
TZOFFSETTO:+0300
TZNAME:EEST
DTSTART:20220327T010000
END:DAYLIGHT
BEGIN:STANDARD
TZOFFSETFROM:+0300
TZOFFSETTO:+0200
TZNAME:EET
DTSTART:20221030T010000
END:STANDARD
END:VTIMEZONE
BEGIN:VEVENT
DTSTART;TZID=Europe/Helsinki:20220311T100000
DTEND;TZID=Europe/Helsinki:20220311T113000
DTSTAMP:20260421T131355
CREATED:20220125T211721Z
LAST-MODIFIED:20220228T192017Z
UID:1025-1646992800-1646998200@kreative-therapie-hof.de
SUMMARY:Meditation in Tanz und Bewegung
DESCRIPTION:Meine Füße tanzen und zaubern ein Lächeln in meine Seele \nMeditation in Tanz und Bewegung  im März\nOffener Vormittagskurs 10.00 Uhr bis 11.30 Uhr\,\nam Freitag 11.3.2022 \nLaufender Vormittagskurs\, im Augenblick mit 3-5 Teilnehmer/innen\,\nAnmeldung erforderlich. \nGebühr pro Teilnehmer/in 16 €/Vormittag \nEinfache\, klar angeleitete Übungen\, in Verbindung mit Musik\nsind Basis dieser Meditation. \nBewegte Meditation\nist leicht zu erlernen\,\ndie Musik ist motivierend\nsie ist entspannend\nund wirkt harmonisierend\nund gleichzeitig auch aktivierend für den Körper \nDiese  Art der Meditation kann ohne großen Aufwand auch Zuhause geübt werden.\nVorkenntnisse sind nicht erforderlich. \nBitte komme in  bequemer Kleidung\, rutschfesten Socken oder leichten Turnschuhen\nund bringe eine Decke\, evtl. eine Gymnastikmatte mit. \nDie Ausschreibung erfolgt ohne Gewähr\, sollten sich die Bestimmungen ändern. Deshalb bitte ich um Anmeldung!!! \n 
URL:https://kreative-therapie-hof.de/event/meditation-in-tanz-und-bewegung/
LOCATION:Gertraud Fischer\, Schödlas 2\, Münchberg\, 95213
END:VEVENT
END:VCALENDAR