BEGIN:VCALENDAR
VERSION:2.0
PRODID:-//Kreative Therapie Hof - ECPv5.1.6//NONSGML v1.0//EN
CALSCALE:GREGORIAN
METHOD:PUBLISH
X-WR-CALNAME:Kreative Therapie Hof
X-ORIGINAL-URL:https://kreative-therapie-hof.de
X-WR-CALDESC:Veranstaltungen für Kreative Therapie Hof
BEGIN:VTIMEZONE
TZID:Europe/Helsinki
BEGIN:DAYLIGHT
TZOFFSETFROM:+0200
TZOFFSETTO:+0300
TZNAME:EEST
DTSTART:20210328T010000
END:DAYLIGHT
BEGIN:STANDARD
TZOFFSETFROM:+0300
TZOFFSETTO:+0200
TZNAME:EET
DTSTART:20211031T010000
END:STANDARD
END:VTIMEZONE
BEGIN:VEVENT
DTSTART;TZID=Europe/Helsinki:20211127T000000
DTEND;TZID=Europe/Helsinki:20211231T000000
DTSTAMP:20260421T120602
CREATED:20211127T122646Z
LAST-MODIFIED:20211127T122646Z
UID:984-1637971200-1640908800@kreative-therapie-hof.de
SUMMARY:Praxisinformation
DESCRIPTION:Die Gruppenworkshops als Präsenzveranstaltungen\nentfallen im Augenblick aufgrund der besonderen Situation. \nEinzeltermine sind weiterhin in meiner Praxis möglich.\nIch  biete Einzelsitzungen auch im  Onlineformat mithilfe Zoom an.\nBitte setzen Sie sich mit mir in Verbindung.\nIch bin gerne für Sie da. \nEine achtsame\,\ngute Zeit wünscht Ihnen\nGertraud Fischer
URL:https://kreative-therapie-hof.de/event/praxisinformation/
ORGANIZER;CN="Gertraud%20Fischer":MAILTO:gertraudfischer@gmx.de
END:VEVENT
END:VCALENDAR