BEGIN:VCALENDAR
VERSION:2.0
PRODID:-//Kreative Therapie Hof - ECPv5.1.6//NONSGML v1.0//EN
CALSCALE:GREGORIAN
METHOD:PUBLISH
X-WR-CALNAME:Kreative Therapie Hof
X-ORIGINAL-URL:https://kreative-therapie-hof.de
X-WR-CALDESC:Veranstaltungen für Kreative Therapie Hof
BEGIN:VTIMEZONE
TZID:UTC
BEGIN:STANDARD
TZOFFSETFROM:+0000
TZOFFSETTO:+0000
TZNAME:UTC
DTSTART:20200101T000000
END:STANDARD
END:VTIMEZONE
BEGIN:VEVENT
DTSTART;TZID=UTC:20201007T190000
DTEND;TZID=UTC:20201007T210000
DTSTAMP:20260421T142545
CREATED:20200831T125858Z
LAST-MODIFIED:20200914T140323Z
UID:594-1602097200-1602104400@kreative-therapie-hof.de
SUMMARY:Wohlfühlabend für Frauen
DESCRIPTION:mit Gespräch\,  Körperarbeit\, Meditation\, heilendem Malen\nje nach aktuellen Bedürfnissen der Teilnehmer. \nNimm Dir Zeit und Raum\,\nDeiner weiblichen Kraft im Innern zu begegnen\,\nsie zu spüren und auszudrücken. \nNimm Dir Zeit\,\nnährend und achtsam mit Dir zu sein\,\nDeine Bedürfnisse zu erkennen und Ihnen zu folgen. \nWertschätze und ehre Dich\,\nDein Frau – Sein. \nSchaffe Raum in Deinem Leben\nfür Wohlbefinden\, Lebensfreude und Leichtigkeit. \nBitte bequeme Kleidung mitbringen\, leichte Schuhe oder ABS-Socken mitbringen.\nAnmeldung ist erwünscht\, da die Gruppengröße aufgrund der momentanen Situation beschränkt ist.\nDie Kursgebühr beträgt pro Teilnehmerin/Abend 18 €. \nIch freue mich auf zwei wohltuende Stunden mit Ihnen/ mit Dir. \nGertraud Fischer \nHeilpraktikerin für Psychotherapie\nTanz-und Ausdruckstherapie\nHypnose\nSuchtberatung
URL:https://kreative-therapie-hof.de/event/wohlfuehlabend-fuer-frauen/
LOCATION:Gertraud Fischer\, Schödlas 2\, Münchberg\, 95213
END:VEVENT
END:VCALENDAR