BEGIN:VCALENDAR
VERSION:2.0
PRODID:-//Kreative Therapie Hof - ECPv5.1.6//NONSGML v1.0//EN
CALSCALE:GREGORIAN
METHOD:PUBLISH
X-WR-CALNAME:Kreative Therapie Hof
X-ORIGINAL-URL:https://kreative-therapie-hof.de
X-WR-CALDESC:Veranstaltungen für Kreative Therapie Hof
BEGIN:VTIMEZONE
TZID:Europe/Helsinki
BEGIN:DAYLIGHT
TZOFFSETFROM:+0200
TZOFFSETTO:+0300
TZNAME:EEST
DTSTART:20250330T010000
END:DAYLIGHT
BEGIN:STANDARD
TZOFFSETFROM:+0300
TZOFFSETTO:+0200
TZNAME:EET
DTSTART:20251026T010000
END:STANDARD
END:VTIMEZONE
BEGIN:VEVENT
DTSTART;TZID=Europe/Helsinki:20251107T190000
DTEND;TZID=Europe/Helsinki:20251107T210000
DTSTAMP:20260421T121755
CREATED:20251103T205436Z
LAST-MODIFIED:20251103T210131Z
UID:1882-1762542000-1762549200@kreative-therapie-hof.de
SUMMARY:Zeichnenabend *Auf zu neuen Ufern*
DESCRIPTION:Neurographisches Zeichnen zu Deinen Themen: \n🍂 Herbstqualität aufgreifen – *Loslassen und Neues gestalten*\n*Wovon möchtest Du Dich trennen?\n*Was darf gehen\, damit Du Energie sparst und Dich fokussierst?\n*Gemeinsam schaffen wir Raum für Leichtigkeit\,\nFreude und Fülle. \nWas erwartet Dich?\n• Du bringst Dein eigenes Thema mit.\n• Mit meiner Anleitung gehst Du in die Veränderung.\n• Wir achten auf innere Stabilität – wichtig\, um vertrauensvoll zu neuen Ufern zu segeln.\n• ⁠\n📅 Datum & Uhrzeit:7.11. /\n19 -21 Uhr\n📍 Ort: in meiner Praxis in Schödlas 2\, 95213 Münchberg\nHonorar: 36 €/Person \nIch lade Dich herzlich ein\, Teil dieses kreativen Prozesses zu sein! \nUm an diesem Kurs teilzunehmen solltest Du schon mal neurographisch gezeichnet haben.\nIch biete eine Einführung ins neurographische Zeichnen im  Übungsabend (bitte wegen Termin nachfragen) an. \nBitte melde Dich rechtzeitig an.\nWir zeichnen in kleiner Gruppe\, damit ich individuell begleiten kann.\nDieser Abend ersetzt keine Therapie.\nBei tieferliegenden Themen begleite ich Dich gerne im 1:1 therapeutisch.\nHerzlichst Gertraud
URL:https://kreative-therapie-hof.de/event/zeichnenabend-auf-zu-neuen-ufern/
LOCATION:Schödlas 2\, 95213 Münchberg\, 95213\, Deutschland
ATTACH;FMTTYPE=image/jpeg:https://kreative-therapie-hof.de/wp-content/uploads/Entladung-2.jpg
ORGANIZER;CN="Gertraud%20Fischer":MAILTO:gertraudfischer@gmx.de
END:VEVENT
END:VCALENDAR