BEGIN:VCALENDAR
VERSION:2.0
PRODID:-//Kreative Therapie Hof - ECPv5.1.6//NONSGML v1.0//EN
CALSCALE:GREGORIAN
METHOD:PUBLISH
X-WR-CALNAME:Kreative Therapie Hof
X-ORIGINAL-URL:https://kreative-therapie-hof.de
X-WR-CALDESC:Veranstaltungen für Kreative Therapie Hof
BEGIN:VTIMEZONE
TZID:Europe/Helsinki
BEGIN:DAYLIGHT
TZOFFSETFROM:+0200
TZOFFSETTO:+0300
TZNAME:EEST
DTSTART:20220327T010000
END:DAYLIGHT
BEGIN:STANDARD
TZOFFSETFROM:+0300
TZOFFSETTO:+0200
TZNAME:EET
DTSTART:20221030T010000
END:STANDARD
END:VTIMEZONE
BEGIN:VEVENT
DTSTART;TZID=Europe/Helsinki:20220201T200000
DTEND;TZID=Europe/Helsinki:20220201T204500
DTSTAMP:20260420T162200
CREATED:20220125T210613Z
LAST-MODIFIED:20220125T210613Z
UID:1023-1643745600-1643748300@kreative-therapie-hof.de
SUMMARY:Zeit für Dich mit Jin Shin Jyutsu (online)
DESCRIPTION:Onlineveranstaltung im Februar\n4 x dienstags 20:00 bis 20:45 Uhr \nZeit für Dich\nmit Jin Shin Jyutsu (japanisches Heilströmen) \nIm Februar wirst Du den Zentralstrom\, den Vermittler- und Betreuerstrom kennenlernen. \nFür das Heilströmen an  diesen Abenden brauchst Du nur Deine Hände\,\neinen ruhigen Platz\, bequeme Kleidung und ca 40 Minuten Zeit. \nIch werde  auf entspannende und ruhige Weise an den 4 Abenden Übungen anleiten\,\ndie Du regelmäßig auch alleine praktizieren  kannst. \nWas kannst du Dir damit Gutes tun\,\nwenn Du regelmäßig strömst? \n             Selbstheilungskräfte anregen und regenerieren \n             Harmonisieren\, beruhigen und entspannen \n             Neue Kraft schöpfen\, stärken und regenerieren \n             Gefühle regulieren und aus dem Gedankenkarusell aussteigen\, \n             sodass du Dich wohl fühlen kannst u.v.mehr \n  \nDie Kosten für einen Abend betragen 11 €\, die Du per Paypal oder Bankverbindung oder bar begleichen kannst. \nWenn Du dabei sein möchtest\, schreibe mir bitte eine Email (gertraudfischer@gmx.de)\nDu bekommst anschließend  meine Daten und kannst Dich mit dem Zoom – Link einloggen\, den ich Dir zuschicke. \nDie Termine: 1.2.\,8.2.\,15.2.\,22.2. 2022 (20 Uhr bis 20.45 Uhr) \n  \nIch freu mich auf Dich\, \nLiebe Grüße \nGertraud
URL:https://kreative-therapie-hof.de/event/zeit-fuer-dich-mit-jin-shin-jyutsu-online/
END:VEVENT
END:VCALENDAR