BEGIN:VCALENDAR
VERSION:2.0
PRODID:-//Kreative Therapie Hof - ECPv5.1.6//NONSGML v1.0//EN
CALSCALE:GREGORIAN
METHOD:PUBLISH
X-WR-CALNAME:Kreative Therapie Hof
X-ORIGINAL-URL:https://kreative-therapie-hof.de
X-WR-CALDESC:Veranstaltungen für Kreative Therapie Hof
BEGIN:VTIMEZONE
TZID:Europe/Helsinki
BEGIN:DAYLIGHT
TZOFFSETFROM:+0200
TZOFFSETTO:+0300
TZNAME:EEST
DTSTART:20220327T010000
END:DAYLIGHT
BEGIN:STANDARD
TZOFFSETFROM:+0300
TZOFFSETTO:+0200
TZNAME:EET
DTSTART:20221030T010000
END:STANDARD
END:VTIMEZONE
BEGIN:VEVENT
DTSTART;TZID=Europe/Helsinki:20220819T190000
DTEND;TZID=Europe/Helsinki:20220819T203000
DTSTAMP:20260422T112729
CREATED:20220801T181749Z
LAST-MODIFIED:20220801T181749Z
UID:1101-1660935600-1660941000@kreative-therapie-hof.de
SUMMARY:Bildbetrachtung und Philosophisches
DESCRIPTION:Bildbetrachtung zu der  Ausstellung „Körperbilder“\,\nin der Ausstellungshalle von\nGourmet- Wunderlich\,\nGartenstraße 5\n95213 Münchberg \n 
URL:https://kreative-therapie-hof.de/event/bildbetrachtung-und-philosophisches/
LOCATION:Schödlas 2\, 95213 Münchberg\, 95213\, Deutschland
ORGANIZER;CN="Gertraud%20Fischer":MAILTO:gertraudfischer@gmx.de
END:VEVENT
BEGIN:VEVENT
DTSTART;TZID=Europe/Helsinki:20220826T130000
DTEND;TZID=Europe/Helsinki:20220826T150000
DTSTAMP:20260422T112729
CREATED:20220801T183708Z
LAST-MODIFIED:20220801T183708Z
UID:1107-1661518800-1661526000@kreative-therapie-hof.de
SUMMARY:Experimentelles Malen für Jugendliche
DESCRIPTION:ab 12 Jahre\nin der Ausstellungshalle von Gourmet-Wunderlich.\nExperimentieren (abstrakt)mit Pastellkreide auf Aquarellpapier\noder  mit Aquarellfarbe\, Wasser und Aquarellpapier.\nPapier\, Farben werden gestellt.\nBitte unempfindliche\, bequeme Kleidung mitbringen.\nIch bitte um Anmeldung (0176 97923523)\,\ndamit ich planen kann. \n 
URL:https://kreative-therapie-hof.de/event/experimentelles-malen-fuer-jugendliche/
LOCATION:Gourmet-Wunderlich\, Gartenstraße 5\, Münchberg\, 95213
ORGANIZER;CN="Gertraud%20Fischer":MAILTO:gertraudfischer@gmx.de
END:VEVENT
BEGIN:VEVENT
DTSTART;TZID=Europe/Helsinki:20220903T100000
DTEND;TZID=Europe/Helsinki:20220903T120000
DTSTAMP:20260422T112729
CREATED:20220801T182804Z
LAST-MODIFIED:20220914T201248Z
UID:1104-1662199200-1662206400@kreative-therapie-hof.de
SUMMARY:Intuitives Malen - Kennenlernangebot
DESCRIPTION:mit Pastellkreide  und Aquarellfarbe  intuitiv zu malen\, vor.\nIch leite Sie auf einfache Weise an\, um das selbst zu erproben.\nBitte bringen Sie bequeme Schuhe mit und kommen Sie in Kleidung\,\ndie auch etwas Farbe abbekommen kann.\nPapier und Farbe steht bereit.\nBitte melden Sie sich an\, damit ich planen kann. (0176 97923523)
URL:https://kreative-therapie-hof.de/event/intuitives-malen-eine-einfuehrung/
LOCATION:Gourmet-Wunderlich\, Gartenstraße 5\, Münchberg\, 95213
ORGANIZER;CN="Gertraud%20Fischer":MAILTO:gertraudfischer@gmx.de
END:VEVENT
END:VCALENDAR