BEGIN:VCALENDAR
VERSION:2.0
PRODID:-//Kreative Therapie Hof - ECPv5.1.6//NONSGML v1.0//EN
CALSCALE:GREGORIAN
METHOD:PUBLISH
X-WR-CALNAME:Kreative Therapie Hof
X-ORIGINAL-URL:https://kreative-therapie-hof.de
X-WR-CALDESC:Veranstaltungen für Kreative Therapie Hof
BEGIN:VTIMEZONE
TZID:Europe/Helsinki
BEGIN:DAYLIGHT
TZOFFSETFROM:+0200
TZOFFSETTO:+0300
TZNAME:EEST
DTSTART:20220327T010000
END:DAYLIGHT
BEGIN:STANDARD
TZOFFSETFROM:+0300
TZOFFSETTO:+0200
TZNAME:EET
DTSTART:20221030T010000
END:STANDARD
END:VTIMEZONE
BEGIN:VEVENT
DTSTART;TZID=Europe/Helsinki:20221214T190000
DTEND;TZID=Europe/Helsinki:20221214T213000
DTSTAMP:20260422T131132
CREATED:20221206T142141Z
LAST-MODIFIED:20221206T142520Z
UID:1180-1671044400-1671053400@kreative-therapie-hof.de
SUMMARY:In Harmonie beim Zeichnen mit Stift und Farbe
DESCRIPTION:Neuroart\, eine Möglichkeit individuelle Bilder zu gestalten und dabei in Balance kommen. \n\n\n\nLoslassen\, zur Ruhe kommen\, Raum für Neues\,  heilsames schaffen Kraft schöpfen harmonisieren Es sind keinerlei Vorkenntnisse erforderlich. Ich leite auf einfache Weise an\, sodaß zum Schluss jede/r eine kleine Zeichnung mit nach Hause nimmt. Material und Farben werden gestellt. Bitte komme in bequemer Kleidung. Dieser Abendkurs findet am 14.12.2022 von 19.00 Uhr bis ca. 21.30 Uhr statt. Kursgebühr beträgt incl. Material 23\,00 € Anmeldung ist bis 12. Dez. erforderlich.
URL:https://kreative-therapie-hof.de/event/in-harmonie-beim-zeichnen-mit-stift-und-farbe/
ATTACH;FMTTYPE=image/jpeg:https://kreative-therapie-hof.de/wp-content/uploads/Expressentladung.jpg
END:VEVENT
BEGIN:VEVENT
DTSTART;TZID=Europe/Helsinki:20221227T100000
DTEND;TZID=Europe/Helsinki:20221227T130000
DTSTAMP:20260422T131132
CREATED:20221206T144004Z
LAST-MODIFIED:20221206T144109Z
UID:1184-1672135200-1672146000@kreative-therapie-hof.de
SUMMARY:Raum für den Neubeginn schaffen\, mit Stift und Farbe (Vormittagskurs)
DESCRIPTION:Neuroart\, eine Möglichkeit individuelle Bilder zu gestalten und dabei in Balance kommen. \n\n\n\nLoslassen\, zur Ruhe kommen\, Raum für Neues\,  heilsames schaffen Kraft schöpfen  harmonisieren  Es sind keinerlei Vorkenntnisse erforderlich.Ich leite auf einfache Weise an\, sodaß zum Schluss jede/r eine kleine Zeichnung mit nach Hause nimmt. Material und Farben werden gestellt. Bitte komme in bequemer Kleidung. Dieser Vormittagskurs  findet am 27. 12.2022 von 10.00 Uhr bis 13.00 Uhr statt. Kursgebühr beträgt incl. Material 25\,00 € Anmeldung ist bis 26. Dez.2022  erforderlich.
URL:https://kreative-therapie-hof.de/event/raum-fuer-den-neubeginn-schaffen-mit-stift-und-farbe-vormittagskurs/
ATTACH;FMTTYPE=image/jpeg:https://kreative-therapie-hof.de/wp-content/uploads/Thema-Abgrenzung-2.jpg
END:VEVENT
END:VCALENDAR