BEGIN:VCALENDAR
VERSION:2.0
PRODID:-//Kreative Therapie Hof - ECPv5.1.6//NONSGML v1.0//EN
CALSCALE:GREGORIAN
METHOD:PUBLISH
X-WR-CALNAME:Kreative Therapie Hof
X-ORIGINAL-URL:https://kreative-therapie-hof.de
X-WR-CALDESC:Veranstaltungen für Kreative Therapie Hof
BEGIN:VTIMEZONE
TZID:Europe/Helsinki
BEGIN:DAYLIGHT
TZOFFSETFROM:+0200
TZOFFSETTO:+0300
TZNAME:EEST
DTSTART:20230326T010000
END:DAYLIGHT
BEGIN:STANDARD
TZOFFSETFROM:+0300
TZOFFSETTO:+0200
TZNAME:EET
DTSTART:20231029T010000
END:STANDARD
END:VTIMEZONE
BEGIN:VEVENT
DTSTART;TZID=Europe/Helsinki:20230307T093000
DTEND;TZID=Europe/Helsinki:20230307T120000
DTSTAMP:20260424T165814
CREATED:20230215T123345Z
LAST-MODIFIED:20230301T211843Z
UID:1252-1678181400-1678190400@kreative-therapie-hof.de
SUMMARY:Zu innerer Ruhe kommen mit neurographischem Zeichnen
DESCRIPTION:Zu innerer Ruhe kommen mit neurographischem Zeichnen \nDienstag\, 7.3.2023\, 9.30 Uhr bis 12 Uhr\nDienstag 21.3.2021 \nIch zeige Ihnen  eine Möglichkeit\,\nmithilfe einer Körperreise und neurographischem Zeichnen\nihre Gefühle zu harmonisieren\,\nihre Gedanken zur Ruhe kommen zu lassen\nund sich wohl Ihrem Körper zu fühlen.\nDazu brauchen  Sie  Stifte und Papier. \nIch begleite Sie auf einfache Weise\,\nIhren   Atem  und Ihren Körper\,\nIhre  Gedanken wahrzunehmen\,\ninneren Stress\, der Sie belastet\, zu entladen\nund diesen mithilfe Stift und Farbe aufs Papier fließen zu  lassen. \nWie das das geht und wie sich das anfühlt\,\nwerden Sie  in einer Einführung erfahren und ausprobieren. \nGanz nebenbei  werden Sie\n*Erfahrungen gemacht haben\,\ndie Ihrem Wohlbefinden dienlich sind\,\n*ein Bild (DIN A 4) in Händen halten\,\nvon dem Sie  überrascht sein werden\,\n*positive Impulse aus Ihrer Zeichnung gewinnen.\n* mit neuen Erkenntnissen einen Perspektivenwechsel einnehmen. \nDiese  Methode können Sie  zu Hause zu Ihrer Harmonisierung  anwenden. \nDas benötigte Material stelle diesen Vormittag ich zur Nutzung zur Verfügung.\nDie Kursgebühr beträgt 28 €/pro Person incl. Material. \nEs sind keinerlei Vorkenntnisse für diesen Kurs erforderlich. \nAus organisatorischen Gründen bitte ich um Anmeldung\nbis Montagabend \, 6\, 3. 2023 \nHerzliche Grüße\nGertraud Fischer
URL:https://kreative-therapie-hof.de/event/stressabbau-entspannung-und-pespektivenwechsel/
ATTACH;FMTTYPE=image/jpeg:https://kreative-therapie-hof.de/wp-content/uploads/Expressentladung.jpg
END:VEVENT
BEGIN:VEVENT
DTSTART;TZID=Europe/Helsinki:20230318T140000
DTEND;TZID=Europe/Helsinki:20230318T170000
DTSTAMP:20260424T165814
CREATED:20221001T104940Z
LAST-MODIFIED:20230312T130102Z
UID:1114-1679148000-1679158800@kreative-therapie-hof.de
SUMMARY:Malen als Weg - neurographisches Zeichnen
DESCRIPTION:Thema: Mit Herz und Verstand\nMit neurographischen Linien\, Kreisen und Farbe\nzu mehr Klarheit im Denken Fühlen und Handeln. \nNeurographik ist eine einfache zu erlernende Methode\,\nmit Stift und Farbe eigene Themen zu bearbeiten und zu klären.\nDabei sind Gedanken\, Gefühle\, innere Bilder und Körperwahrnehmung willkommen\nund …… ein Anliegen\, das Sie  bearbeiten möchten.\nIn einer kleinen Gruppe von 3-5 Personen begleite ich Sie \,\nachtsam mithilfe des Zeichnens\,\ndurch Ihren Erkenntnis- und Wandlungsprozess.\nSie brauchen keine besondere Begabung für Zeichnen oder Malen zu haben\,\njedoch die Bereitschaft\, etwas Neues auszuprobieren\nund eine gewisse Neugierde\, mehr Facetten an sich kennen zu lernen.\nSie  benötigent 1 weißes Blatt A4\, einen schwarzen Stift (etwa 0\,5 und 1 mm) und ein paar Buntstifte .\nDie Kursgebühr beträgt 38 €.\nGerne stelle ich Dir das Material gegen einen kleinen Aufpreis zur Verfügung.\nAnmeldeschluss 17. März 2023\n🌱💚☀️\, herzliche Grüße Gertraud \nBitte wenden Sie sich an mich\,\nwenn Sie Interesse an diesem Kurs  haben (0176 97923523).\nAnmeldung ist erforderlich. \nIch werde gerne Ihre noch bestehenden Fragen beantworten\,\nund freue mich\,\nsie auf Ihrem Weg ein Stück begleiten zu dürfen. \nViele Grüße\nGertraud Fischer
URL:https://kreative-therapie-hof.de/event/intuitives-malen-fuer-einsteiger/
ATTACH;FMTTYPE=image/jpeg:https://kreative-therapie-hof.de/wp-content/uploads/Homepage-Sonne.jpg
END:VEVENT
END:VCALENDAR