BEGIN:VCALENDAR
VERSION:2.0
PRODID:-//Kreative Therapie Hof - ECPv5.1.6//NONSGML v1.0//EN
CALSCALE:GREGORIAN
METHOD:PUBLISH
X-WR-CALNAME:Kreative Therapie Hof
X-ORIGINAL-URL:https://kreative-therapie-hof.de
X-WR-CALDESC:Veranstaltungen für Kreative Therapie Hof
BEGIN:VTIMEZONE
TZID:Europe/Helsinki
BEGIN:DAYLIGHT
TZOFFSETFROM:+0200
TZOFFSETTO:+0300
TZNAME:EEST
DTSTART:20240331T010000
END:DAYLIGHT
BEGIN:STANDARD
TZOFFSETFROM:+0300
TZOFFSETTO:+0200
TZNAME:EET
DTSTART:20241027T010000
END:STANDARD
END:VTIMEZONE
BEGIN:VEVENT
DTSTART;TZID=Europe/Helsinki:20241111T093000
DTEND;TZID=Europe/Helsinki:20241111T113000
DTSTAMP:20260424T184211
CREATED:20240902T190815Z
LAST-MODIFIED:20241102T204456Z
UID:1583-1731317400-1731324600@kreative-therapie-hof.de
SUMMARY:Mit energetischem Zeichnen in den Tag
DESCRIPTION:Energetisches Zeichen –\nein Training\nin Loslassen\,\nGefühlsregulation\,\nTransformation.\nmithilfe des neurographischen Zeichnens\nMontag\, 11.11.24 von 9.30 bis 11.30Uhr in Präsenz. \nWir arbeiten ganzheitlich: \nEinstimmung  mit einer Übung aus dem Embodiment\,\nanschließend werde ich Dich nach den Regeln des neurographischen Zeichnens\ndurch Dein Thema begleiten\,\num\nEntspannung zu erleben\,\num von Deinem „Kopfkino oder Gedankenkarusell“ Abstand zu nehmen\,\num mit dir selbst in Kontakt zu kommen\,\nmit Deinen Bedürfnissen\,\nin Kontakt mit Deiner Selbstheilungskraft und Deiner Selbstliebe.\nVorkenntnisse im neurographischen Zeichnen sind nicht erforderlich. \nKursgebühr 22 € \nAnmeldung ist bis 8.11.2024  erforderlich.\nTeilnehmerzahl 3-5 Personen. \nDu brauchst einen schwarzen Fineliner 0\,3 oder 0\,5\neinen dickeren schwarzen Filzstift\nBuntstifte\nein weißes DIN A 4 Papier \nMein  Atelier- und Praxisraum:\nSchödlas 2\n95213 Münchberg \nAnmeldung 0176/97923523\nGertraud Fischer\nNeurographikSpezialistin\nTanz-und Ausdruckstherapeutin
URL:https://kreative-therapie-hof.de/event/energetisch-zeichnen-abendworkshop/
LOCATION:Schödlas 2\, 95213 Münchberg\, 95213\, Deutschland
ATTACH;FMTTYPE=image/jpeg:https://kreative-therapie-hof.de/wp-content/uploads/AVE-Homepage-.jpg
END:VEVENT
END:VCALENDAR