BEGIN:VCALENDAR
VERSION:2.0
PRODID:-//Kreative Therapie Hof - ECPv5.1.6//NONSGML v1.0//EN
CALSCALE:GREGORIAN
METHOD:PUBLISH
X-WR-CALNAME:Kreative Therapie Hof
X-ORIGINAL-URL:https://kreative-therapie-hof.de
X-WR-CALDESC:Veranstaltungen für Kreative Therapie Hof
BEGIN:VTIMEZONE
TZID:Europe/Helsinki
BEGIN:DAYLIGHT
TZOFFSETFROM:+0200
TZOFFSETTO:+0300
TZNAME:EEST
DTSTART:20250330T010000
END:DAYLIGHT
BEGIN:STANDARD
TZOFFSETFROM:+0300
TZOFFSETTO:+0200
TZNAME:EET
DTSTART:20251026T010000
END:STANDARD
END:VTIMEZONE
BEGIN:VEVENT
DTSTART;TZID=Europe/Helsinki:20250502T190000
DTEND;TZID=Europe/Helsinki:20250502T210000
DTSTAMP:20260420T221510
CREATED:20250105T143530Z
LAST-MODIFIED:20250602T203901Z
UID:1684-1746212400-1746219600@kreative-therapie-hof.de
SUMMARY:Kreativ neue Wege gehen mit energetischem Zeichnen
DESCRIPTION:Blockaden lösen\n\nmit Elementen aus dem neurographischem® Zeichnen. \nDiesmal geht es darum\,\ndas eine oder andere Hindernis\,\ndas uns vermeintlich oder auch ganz konkret aufhalten möchte\,\n– ob in unseren Gedanken oder real –\n-ob  beruflich oder  privat bei der eigenen Entwicklung-\nbeim Zeichnen zu beleuchten \nund zu erfahren\, wie es sich anfühlt\,\nmit Linien\, Formen und Farben wieder Bewegung\nin unser System zu bringen. \n2 Stunden in denen wir einfache Blockaden lösen werden\,\ndie uns im Augenblick daran hindern\,\ndurch das Tor  zum neuen Ufer zu  gehen: \n\nuns mit  leichteren Energien verbinden\, sie anspüren\, um  unseren Weg  mit mehr Leichtigkeit beschreiten zu  können\,\nmanches Schwere\, belastende hinter uns lass\, um neuen  Raum zu kreieren\, \ndamit mehr von dem\, was wir uns wünschen\,in unser Leben kommt.\n\nDas Material ist im Preis inbegriffen. \nEs sind keine Vorkenntnisse erforderlich.\nTeilnehmerzahl 3-5 Personen. \nAnmeldung bis 1.5.2025 \n  \n 
URL:https://kreative-therapie-hof.de/event/auf-zu-neuen-ufern/
ATTACH;FMTTYPE=image/jpeg:https://kreative-therapie-hof.de/wp-content/uploads/AVE-Homepage-.jpg
END:VEVENT
BEGIN:VEVENT
DTSTART;TZID=Europe/Helsinki:20250523T190000
DTEND;TZID=Europe/Helsinki:20250523T203000
DTSTAMP:20260420T221510
CREATED:20250523T122231Z
LAST-MODIFIED:20250523T122515Z
UID:1749-1748026800-1748032200@kreative-therapie-hof.de
SUMMARY:Kreativ neue Wege gehen - Vortrag zu kreativer Therapie
DESCRIPTION:Vortrag über\nKörperorientierte kreative Therapie\nbei Essstörungen und Abhängigkeitserkrankungen \nIch referiere über Erfahrungen aus \nmeinem persönlichen Erleben und\nden langjährigen Erfahrungen \nin meiner Praxis mit \nkreativen körperorientierten Methoden. \nHerzliche Einladung zu diesem Vortragsabend \nMeine  Ausstellung „Innere Bilder“ kann an diesem Abend besucht werden. \nVerranstaltungsort:\nGartenstraße 5\n95213 Münchberg \nim Wintergarten bei Gourmet Wunderlich
URL:https://kreative-therapie-hof.de/event/kreativ-neue-wege-gehen/
LOCATION:Gourmet-Wunderlich\, Gartenstraße 5\, Münchberg\, 95213
ATTACH;FMTTYPE=image/jpeg:https://kreative-therapie-hof.de/wp-content/uploads/500104118_1288276146457513_8746196848113182628_n.jpg
END:VEVENT
END:VCALENDAR