BEGIN:VCALENDAR
VERSION:2.0
PRODID:-//Kreative Therapie Hof - ECPv5.1.6//NONSGML v1.0//EN
CALSCALE:GREGORIAN
METHOD:PUBLISH
X-WR-CALNAME:Kreative Therapie Hof
X-ORIGINAL-URL:https://kreative-therapie-hof.de
X-WR-CALDESC:Veranstaltungen für Kreative Therapie Hof
BEGIN:VTIMEZONE
TZID:Europe/Helsinki
BEGIN:DAYLIGHT
TZOFFSETFROM:+0200
TZOFFSETTO:+0300
TZNAME:EEST
DTSTART:20250330T010000
END:DAYLIGHT
BEGIN:STANDARD
TZOFFSETFROM:+0300
TZOFFSETTO:+0200
TZNAME:EET
DTSTART:20251026T010000
END:STANDARD
END:VTIMEZONE
BEGIN:VEVENT
DTSTART;TZID=Europe/Helsinki:20250606T190000
DTEND;TZID=Europe/Helsinki:20250606T210000
DTSTAMP:20260420T201022
CREATED:20250602T210721Z
LAST-MODIFIED:20250603T154046Z
UID:1756-1749236400-1749243600@kreative-therapie-hof.de
SUMMARY:Auf zu neuen Ufern mit energetischem Zeichnen
DESCRIPTION:Neuroregen für Entwicklung und Wachstum\nZeichnen und Coaching in Verbindung \nMithilfe einer geführten Körperreise und des neurographischen Zeichnens\nwirst Du Dich mit der Kraft von Himmel und Erde verbinden\,\nDeine innere Mitte stärken\,\nSpannungen in  Deinem System lösen\, \ngut verbunden mit der Erde neue Ideen\,\nProjekte einsäen und wachsen lassen\,\nmit  der  Kraft der Naturelemente\,\nDeiner inneren Bilder\,\nDeiner positiven Körperwahrnehmung. \nDu wirst vielleicht die Geborgenheit in Verbindung mit Mutter Erde spüren\,\ndie nährende Kraft der Elemente wahrnehmen.\nDu wirst Dein Wachstum und Deine Ausdehnung erspüren\,\nEntfaltung und loslassen erleben  beim Zeichnen der Linien.\nin die nährende Kraft der Farben während des colorierens eintauchen.\nEin stärkendes Bild\,\ndas Dir ein Anker für die nächste Zeit sein kann\,\nwird sich entwickeln. \nDieser Kurs ist ohne Vorkenntnisse möglich. \nBitte bringe mit:\n1 Fineliner (0\,3 oder 0\,5 )in schwarz;\nFilzstift schwarz Stärke 1 mm\nBuntstifte \nIch freue mich auf Dein Dabeisein. \nBitte melde Dich bis zum 5.6.2025 an\, wenn Du dabei sein möchtest. \nDer Kurs findet mit 3-5 Teilnehmer/innen statt\,\nso kann ich Dich auch individuell in dieser kleinen Gruppe begleiten. \n 
URL:https://kreative-therapie-hof.de/event/auf-zu-neuen-ufern-mit-energetischem-zeichnen/
LOCATION:Schödlas 2\, 95213 Münchberg\, 95213\, Deutschland
ATTACH;FMTTYPE=image/jpeg:https://kreative-therapie-hof.de/wp-content/uploads/Neuroregen-2.jpg
ORGANIZER;CN="Gertraud%20Fischer":MAILTO:gertraudfischer@gmx.de
END:VEVENT
BEGIN:VEVENT
DTSTART;TZID=Europe/Helsinki:20250704T190000
DTEND;TZID=Europe/Helsinki:20250704T210000
DTSTAMP:20260420T201022
CREATED:20250630T160956Z
LAST-MODIFIED:20250702T094145Z
UID:1796-1751655600-1751662800@kreative-therapie-hof.de
SUMMARY:Auf zu neuen Ufern mit energetischem Zeichnen
DESCRIPTION:Einmal im Monat\, diesmal\nFeitag\, den 4.7.25 von 19 Uhr bis 21 Uhr findet\nenergetisches Zeichnen in meiner Praxis statt . \n“ Auf zu neuen Ufern “ ist das Thema\, das uns durch das Jahr begleitet.\nWir bearbeiten die verschiedenen Herausforderungen\, die uns beim Wandel begleiten. \nDamit die Veränderung gut gelingen kann\, ist es dienlich\,\nübernommene Verantwortung\, Altlasten abzugeben. \nZu viel Belastung\,\ndu fühlst Dich überfordert\,\nkannst nicht nein sagen\,\nbist sehr oft unzufrieden? \nKümmerst Dich zuerst um andere\,\nerst in zweiter Linie um deine eigenen Angelegenheiten? \nKannst Dich dem nicht widmen\,\nwas Du neu kreieren möchtest\, erst wenn… dann… .\nKennst Du das?\nDu weißt nicht\, wie Du das verändern kannst\,\nwie Du Dich abgrenzen kannst\,\num dich wieder freier\, zufriedener und unbeschwerter zu fühlen? \nIn diesem Workshop wirst Du ein neurographisches Modell kennenlernen\,\nDich von übernommener Verantwortung \naus Deinem Familiensystem\, aus Deinem Arbeitsumfeld\,\naus deinem Ahnensystem zu befreien.  \nDu wirst nochmal die Energie der Emotionen\, deiner Überlastung anspüren\,\num sie dann kreativ\, zeichnerisch mithilfe des Atmens\, des Zeichnens und der Farbe abzulösen. \nDu wirst anspüren\,\nwieviel leicher es sich für Dich anfühlt\,\nwenn Du Deinen eigenen Raum klar definiert hast\nund ihn mit all dem füllst\, das Dir gut tut\,\nDeiner Gesundheit und Deinem Wohlbefinden dient. \nEin gutes Gefühl\,\nmehr Kraft\, mehr Zeit zu haben\,\ndie Dir für Dein eigenes Leben wieder zur Verfügung steht. \nDie Zeichnung wird Dir während der Veränderung die nächsten Wochen eine positive Kraftquelle und Unterstützung sein. \nBitte bringe einen\nschwarzen Fineliner \,\neinen etwas stärkeren schwarzen Filzstift\nund Buntstifte mit. \nDer Energieausgleich beträgt 28 €.\nAnmeldung ist bis Donnerstagabend per PN möglich.\nDer Workshop findet ab 3 Teilnehmerinnen statt.
URL:https://kreative-therapie-hof.de/event/auf-zu-neuen-ufern-mit-energetischem-zeichnen-2/
LOCATION:Schödlas 2\, 95213 Münchberg\, 95213\, Deutschland
ATTACH;FMTTYPE=image/jpeg:https://kreative-therapie-hof.de/wp-content/uploads/514066875_24045894785078218_4330036616430356254_n.jpg
ORGANIZER;CN="Gertraud%20Fischer":MAILTO:gertraudfischer@gmx.de
END:VEVENT
END:VCALENDAR