BEGIN:VCALENDAR
VERSION:2.0
PRODID:-//Kreative Therapie Hof - ECPv5.1.6//NONSGML v1.0//EN
CALSCALE:GREGORIAN
METHOD:PUBLISH
X-WR-CALNAME:Kreative Therapie Hof
X-ORIGINAL-URL:https://kreative-therapie-hof.de
X-WR-CALDESC:Veranstaltungen für Kreative Therapie Hof
BEGIN:VTIMEZONE
TZID:Europe/Helsinki
BEGIN:DAYLIGHT
TZOFFSETFROM:+0200
TZOFFSETTO:+0300
TZNAME:EEST
DTSTART:20250330T010000
END:DAYLIGHT
BEGIN:STANDARD
TZOFFSETFROM:+0300
TZOFFSETTO:+0200
TZNAME:EET
DTSTART:20251026T010000
END:STANDARD
END:VTIMEZONE
BEGIN:VEVENT
DTSTART;TZID=Europe/Helsinki:20251003T190000
DTEND;TZID=Europe/Helsinki:20251003T210000
DTSTAMP:20260420T160624
CREATED:20250930T195259Z
LAST-MODIFIED:20250930T195259Z
UID:1845-1759518000-1759525200@kreative-therapie-hof.de
SUMMARY:Auf zu neuen Ufern mit energetischem Zeichnen
DESCRIPTION:Vom Chaos in die Ordnung\nmit neurographischem  Zeichnen zu innerer Klarheit \nStress\, Enge\, Kontrollverlust – das Chaos fordert uns heraus.\nDoch genau darin liegt die Chance:\nMit Farben und Linien verwandeln wir Unruhe in kreative Ordnung.\nErlebe\, wie neurographisches  Zeichnen dich stärkt\, klärt und inspiriert. \n🎨 Keine Vorkenntnisse nötig\n🔗 Anmeldung: bis Donnerstag\, 2.10.2025\nTeilnehmeranzahl 3-5 Personen
URL:https://kreative-therapie-hof.de/event/auf-zu-neuen-ufern-mit-energetischem-zeichnen-5/
LOCATION:Schödlas 2\, 95213 Münchberg\, 95213\, Deutschland
ATTACH;FMTTYPE=image/jpeg:https://kreative-therapie-hof.de/wp-content/uploads/Chaos-und-Ordnung_n.jpg
END:VEVENT
BEGIN:VEVENT
DTSTART;TZID=Europe/Helsinki:20251007T183000
DTEND;TZID=Europe/Helsinki:20251007T183000
DTSTAMP:20260420T160624
CREATED:20251004T092603Z
LAST-MODIFIED:20251004T094520Z
UID:1851-1759861800-1759861800@kreative-therapie-hof.de
SUMMARY:Kreative Therapie bei Essstörungen - Vortrag in Mitterteich
DESCRIPTION:🎨 Herzliche Einladung zum Vortrag\nKreative Therapie bei Essstörungen\nim Rahmen der Wochen der seelischen Gesundheit. \nDas Gesundheitsamt Tirschenreuth lädt gemeinsam mit\ndem Museum Mitterteich und mir zu einem besonderen Vortrag ein\,\nder kreative Wege in der therapeutischen Arbeit mit Essstörungen beleuchtet.\n🗓 Termin: 7.10.25  um 18.30 Uhr\n📍 Ort: Museumscafé Mitterteich\nBegleitend zum Vortrag ist eine Sonderausstellung mit Bildern aus meinen kreativen Malprozessen zu sehen\n– Ausdruck innerer Wandlung\,\nintuitiver Tiefe und heilsamer Bewegung. \nWir freuen uns auf einen interessanten\, aufklärenden und berührenden Abend – mit Raum für Austausch\, Inspiration und neue Perspektiven. \nEs besteht die Möglichkeit einer Fahrgemeinschaft\, bitte bei mir anfragen.
URL:https://kreative-therapie-hof.de/event/kreative-therapie-bei-essstoerungen-vortrag-in-mitterteich/
END:VEVENT
BEGIN:VEVENT
DTSTART;TZID=Europe/Helsinki:20251011T133000
DTEND;TZID=Europe/Helsinki:20251011T173000
DTSTAMP:20260420T160624
CREATED:20210910T111525Z
LAST-MODIFIED:20251004T085638Z
UID:961-1760189400-1760203800@kreative-therapie-hof.de
SUMMARY:Malen als Weg –  kreative Seelenzeit für Dich
DESCRIPTION:🎨 Kreativ neue Wege gehen mit Malen als Weg \nMonatsthema:\n🕊 Zeit für Deine innere Künstlerin – in Kontakt mit Deiner Schöpferkraft\nEin heilsamer Raum für Dich. \n🌿 Einstimmen in der Natur \nSpüre die Verbindung zur Natur und deren Kraft\,\nkomme zur Ruhe und öffne Dich für das\, was in Dir lebendig ist. \n🎨 Kreatives Seelenmalen im Atelier \nIm Anschluss tauchst Du in einen achtsamen\, intuitiven Malprozess ein – zu Deinem persönlichen Thema oder Anliegen.\nDu brauchst keine Vorkenntnisse – nur Dich selbst. \nWas Dich erwartet: \n\nEin einführendes Gespräch und eine Körperreise in der Natur helfen Dir\, nach innen zu schauen und Deine Bedürfnisse wahrzunehmen.\nDu wirst eingeladen\, mit Farben und Materialien zu experimentieren – absichtslos\, spielerisch\, frei.\nVielleicht begegnet Dir Dein inneres Kind\, das neugierig und unbewertet gestalten darf.\nDu lernst Deine innere Künstlerin und Deine Schöpferkraft kennen\n– ohne Druck\, ohne Bewertung\, einfach aus Freude am Ausdruck.\n\n💫 Begleitung & Methoden \nIch begleite Dich individuell\,  achtsam und zielführend in einer kleinen Gruppe (3–5 Personen).\nNeben dem Malen lernst Du praktikable Methoden  kennen\, um Körper\, Geist und Seele zu stärken – z. B. durch: \n\nInnere-Kind-Arbeit\nBewegte Meditation\nTanz- und Ausdruckstherapie\nNeurographik\n… und mehr\n\n🖼 Dein Bild spricht zu Dir \nEs geht nicht darum\, „schön“ zu malen.\nEs geht darum\, Deine inneren Bilder und Deine Strärken  sichtbar zu machen\n– ein Spiegel Deines Prozesses. \n📅 Termine & Anmeldung \nBitte melde Dich verbindlich bis Donnerstag\, 09.10.2025 an.\nPapier und Farben sind in der Kursgebühr enthalten.\nSpezialpapiere werden separat berechnet. \n💻 Online-Angebot für Teilnehmende \nAls Ergänzung biete ich 20.10.25 um 19.00 Uhr einen kreativen Online-Abend (90 Min.) via Zoom an: \n\nEinführung mit Meditation\nGemeinsame Malzeit mit Raum für Fragen und Impulse\nTeilnahme für Kursteilnehmer ermäßigt (12 €)  je nach Teilnehmerzahl\nDen Zoom-Link erhältst Du nach Anmeldung :gertraudfischer@gmx.de\n\n🧘‍♀️ Wichtig zu wissen \n„Malen als Weg“ ersetzt keine Therapie.\nNach dem Basiskurs besteht die Möglichkeit\, an einem  Fortgeschrittenenkurs teilzunehmen. \nIch freue mich\, Dich auf Deinem Weg zu begleiten.\n✨ Deine innere Künstlerin wartet schon auf Dich. \n 
URL:https://kreative-therapie-hof.de/event/malen-als-weg-intensivworkshop/
LOCATION:Schödlas 2\, 95213 Münchberg\, 95213\, Deutschland
ATTACH;FMTTYPE=image/jpeg:https://kreative-therapie-hof.de/wp-content/uploads/Sich-oeffnen.jpg
ORGANIZER;CN="Gertraud%20Fischer":MAILTO:gertraudfischer@gmx.de
END:VEVENT
BEGIN:VEVENT
DTSTART;TZID=Europe/Helsinki:20251020T190000
DTEND;TZID=Europe/Helsinki:20251020T203000
DTSTAMP:20260420T160624
CREATED:20250719T112117Z
LAST-MODIFIED:20251017T093135Z
UID:1807-1760986800-1760992200@kreative-therapie-hof.de
SUMMARY:Malen als Weg - Offenes Atelier online
DESCRIPTION:🌟Malen als Weg online –  ein kreativer Raum via Zoom \nMontag\,  20. 10 2025\,  19.00 Uhr –20:30 Uhr \nIch lade dich herzlich ein\,\nzu einem kreativen Abend\,\nder Raum für inneres Erleben\, Ausdruck und Verbundenheit schenkt –\nganz bequem von zuhause aus. \nDieser Online-Termin eignet sich wunderbar zum Kennenlernen meiner Arbeit\noder als liebevolle Vertiefung für alle\, die bereits mit „Malen als Weg“ vertraut sind.\nVorkenntnisse sind nicht erforderlich – nur die Offenheit\, dich auf Farben\,\nImpulse und dein eigenes kreatives Spüren einzulassen. \nWas erwartet dich: \n\nEine achtsame (Körper-)Meditation zum Ankommen\nFreies Gestalten mit deinen eigenen Materialien und Farben\nBegleitende Impulse zur Vertiefung und Selbstwahrnehmung\nEin kurzer Austausch zum Abschluss\nOptional: offener Raum für weiteres Verweilen\n\nGemeinsam schaffen wir ein nährendes Energiefeld\, das die innere Künstlerin weckt und stärkt.\nErfahrungsgemäß wirkt auch das Online-Format verbindend und inspirierend – viele Teilnehmerinnen berichten von einem tiefen Wohlgefühl und neuen kreativen Impulsen. \n📩 Anmeldung: Bitte sende mir bis Samstagabend eine persönliche Nachricht\, damit ich dir den Zoom-Link und weitere Informationen zuschicken kann. Ermäßigte Teilnahme für Teilnehmerinnen des Präsenzkurses. \nEnergieausgleich: 20 € \nIch freue mich auf dich und unser gemeinsames Gestalten.\nHerzlichst\, Gertraud \n  \n 
URL:https://kreative-therapie-hof.de/event/malen-als-weg-online-kennenlern-und-uebungsabend/
LOCATION:Zoommeeting
ATTACH;FMTTYPE=image/jpeg:https://kreative-therapie-hof.de/wp-content/uploads/Sich-oeffnen.jpg
END:VEVENT
BEGIN:VEVENT
DTSTART;TZID=Europe/Helsinki:20251022T190000
DTEND;TZID=Europe/Helsinki:20251022T203000
DTSTAMP:20260420T160624
CREATED:20250901T123956Z
LAST-MODIFIED:20251023T101142Z
UID:1823-1761159600-1761165000@kreative-therapie-hof.de
SUMMARY:Minikurs energetisches Zeichnen per Zoom
DESCRIPTION:🌀 Minikurs: Einführung in Energetisches Zeichnen\nMehr Energie & innere Stabilität mit neurographischem Zeichnen – ohne Vorkenntnisse! \n🎨 Lerne eine kreative Methode kennen\, die Zeichnen mit Körperwahrnehmung verbindet.\n✨ Einfache Elemente aus dem neurographischen Zeichnen sind leicht  zu zeichnen  und wirken  kraftvoll im Alltag!\nNach dem Einführungsworkshop kannst Du beginnen\,\nmit der Methode zu experimentieren\,\ndich weiter zu entwickeln und zu entfalten mit und ohne professioneller Unerstützung. \n📆 am 22.10.2025 von 19 bis 20.30 Uhr\n💶 Honorar: 20 €\n📩 Anmeldung per PN oder an gertraudfischer@gmx.de\nNach Anmeldung bekommst Du den ZoomLink von mir.\nDu benötigst Deinen Computer \nmehrere Blätter weißes DIN A 4 Papier\n1 schwarzen Fineliner\n1 dickeren schwarzen Filzstift\nBuntstifte\n1 Centmünze \nJetzt Platz sichern und loszeichnen! \nDen Einsteigerkurs biete ich als Basis an\,\num Themen\, Anliegen\, bei mir zu bearbeiten\nwenn Du noch keine Vorerfahrung mit neurographischem Zeichnen hast.
URL:https://kreative-therapie-hof.de/event/minikurs-energetisches-zeichnen/
LOCATION:Zoommeeting
ATTACH;FMTTYPE=image/png:https://kreative-therapie-hof.de/wp-content/uploads/jgg0qx8l.png
ORGANIZER;CN="Gertraud%20Fischer":MAILTO:gertraudfischer@gmx.de
END:VEVENT
BEGIN:VEVENT
DTSTART;TZID=Europe/Helsinki:20251028T190000
DTEND;TZID=Europe/Helsinki:20251028T210000
DTSTAMP:20260420T160624
CREATED:20251023T102222Z
LAST-MODIFIED:20251023T102222Z
UID:1869-1761678000-1761685200@kreative-therapie-hof.de
SUMMARY:Gefühlsregulation mithilfe von energetischem Zeichnen
DESCRIPTION:  \nEnergetisches Zeichnen – Neurographik in Übung\nEin Workshop in kleiner Gruppe \nNach einem ersten berührenden Minikursabend folgen nun weitere Übungsabende\,\ndenn neurographisches Zeichnen wirkt – und entfaltet seine Kraft mit Übung. \nEs ist mehr als das Gestalten eines Bildes:\nEs ist ein Weg\, Emotionen zu regulieren\,\ninnere Balance zu finden\nund das Zeichnen auch zu Hause zu integrieren. \nDie Erfahrung zeigt:\nIn einer Gruppe fällt der Einstieg leichter\,\ndie Motivation wächst\,\nund man bereichert sich gegenseitig. \nMeine Stärke liegt in der Begleitung in Präsenz\, \nin der achtsamen energetischen  Begleitung\nkleiner Gruppen oder 1:1 mit Raum für individuelle Prozesse. \nDaher biete ich einen Workshop über 5 Einheiten an.\nDie Abende können einzeln besucht werden –\nempfehlenswert ist jedoch die kontinuierliche Teilnahme\,\num das neurographische Zeichnen als wohltuende Praxis zu vertiefen. \n🗓️ Dienstagabends\, jeweils 19–21 Uhr\nStart: 28. Oktober 2025\nHinweis: Am 4. November entfällt der Kursabend. \n📍Ort: Münchberg Schödlas 2\, Praxis für kreative Therapie\n💶 Beitrag: 20 € pro Abend\n🖊️ Materialien\n1 schwarzer Fineliner\,\n1 dickerer schwarzer Filzstift\,\n6-12 Buntstifte\nDIN A 4 Kopierpapier \nEs sind keine Vorkenntnisse erforderlich\,\njedoch die Bereitschaft zum Experimentieren mit Stift und Farbe\nund Deinem Leben eine positive Richtung zu geben. \nAnmeldung  per gertraudfischer@gmx.de\, whatsapp oder 017697923523 \n 
URL:https://kreative-therapie-hof.de/event/gefuehlsregulation-mithilfe-von-energetischem-zeichnen/
LOCATION:Schödlas 2\, 95213 Münchberg\, 95213\, Deutschland
ATTACH;FMTTYPE=image/jpeg:https://kreative-therapie-hof.de/wp-content/uploads/Chaos-und-Ordnung_n.jpg
END:VEVENT
END:VCALENDAR