BEGIN:VCALENDAR
VERSION:2.0
PRODID:-//Kreative Therapie Hof - ECPv5.1.6//NONSGML v1.0//EN
CALSCALE:GREGORIAN
METHOD:PUBLISH
X-WR-CALNAME:Kreative Therapie Hof
X-ORIGINAL-URL:https://kreative-therapie-hof.de
X-WR-CALDESC:Veranstaltungen für Kreative Therapie Hof
BEGIN:VTIMEZONE
TZID:Europe/Helsinki
BEGIN:DAYLIGHT
TZOFFSETFROM:+0200
TZOFFSETTO:+0300
TZNAME:EEST
DTSTART:20250330T010000
END:DAYLIGHT
BEGIN:STANDARD
TZOFFSETFROM:+0300
TZOFFSETTO:+0200
TZNAME:EET
DTSTART:20251026T010000
END:STANDARD
END:VTIMEZONE
BEGIN:VEVENT
DTSTART;TZID=Europe/Helsinki:20251230T130000
DTEND;TZID=Europe/Helsinki:20251230T170000
DTSTAMP:20260420T160609
CREATED:20251103T214958Z
LAST-MODIFIED:20251228T103353Z
UID:1894-1767099600-1767114000@kreative-therapie-hof.de
SUMMARY:Heilsame Ahnenarbeit mit energetischem Zeichnen
DESCRIPTION:🌟 Heilsames Zeichnen für Dich und Deine Ahnen \nIn diesem Workshop nutzen wir neurographisches  Zeichnen\, um die Kraft deiner Ahnen wieder ins Fließen zu bringen. So kannst du diese Energie im Hier und Jetzt spüren und für dich nutzen. \nWir arbeiten mit einem Ahnenmandala\, das ganz intuitiv entsteht –\ndu musst dafür weder deinen Stammbaum kennen noch deine Ahnen im Detail benennen.\nMit der Kraft der  Farben schenken wir auch den vergessenen\, ausgeschlossenen oder im Krieg gefallenen Ahnen unsere Aufmerksamkeit und Dankbarkeit.\nOhne sie gäbe es uns nicht.\nAuf diese Weise kann ihre positive Kraft wieder zu uns und in unser Familiensystem  zurückkehren und uns auf unserem Weg stärken. \nIch begleite dich dabei individuell – ob in einer kleinen Gruppe oder in einer Einzelsitzung.\nDamit du dich ganz auf dein Thema konzentrieren kannst\, solltest du einfache Vorkenntnisse im neurographischen Zeichnen mitbringen. Wir finden eine Lösung\, solltest Du noch eine Einführung brauchen – dann melde Dich bei mir. \n👉 Erste Eindrücke und Inspiration findest du in meinen Blogbeiträgen\, dort erfährst du auch mehr über das Ahnenmandala. \n📅 Anmeldung bis zum 27.12.2025\nDieser Samstag steht sowohl für eine kleine Gruppe\, wie auch für Einzelsitzungen zur Verfügung. \nKosten für ein 1:1 –  120 € für einen Zeichennachmittag (3-4 Stunden)\nin einer Gruppe mit 2 oder 3 Personen 80 € pro Person ( 4 Stunden) \nBitte teile mir mit\, welche Form für dich passt. \n  \n 
URL:https://kreative-therapie-hof.de/event/die-gute-kraft-deiner-ahnen/
LOCATION:Schödlas 2\, 95213 Münchberg\, 95213\, Deutschland
ATTACH;FMTTYPE=image/jpeg:https://kreative-therapie-hof.de/wp-content/uploads/Leichtigkeit-Seelen-ins-Licht-verhelfen.jpg
END:VEVENT
END:VCALENDAR