BEGIN:VCALENDAR
VERSION:2.0
PRODID:-//Kreative Therapie Hof - ECPv5.1.6//NONSGML v1.0//EN
CALSCALE:GREGORIAN
METHOD:PUBLISH
X-WR-CALNAME:Kreative Therapie Hof
X-ORIGINAL-URL:https://kreative-therapie-hof.de
X-WR-CALDESC:Veranstaltungen für Kreative Therapie Hof
BEGIN:VTIMEZONE
TZID:Europe/Helsinki
BEGIN:DAYLIGHT
TZOFFSETFROM:+0200
TZOFFSETTO:+0300
TZNAME:EEST
DTSTART:20260329T010000
END:DAYLIGHT
BEGIN:STANDARD
TZOFFSETFROM:+0300
TZOFFSETTO:+0200
TZNAME:EET
DTSTART:20261025T010000
END:STANDARD
END:VTIMEZONE
BEGIN:VEVENT
DTSTART;TZID=Europe/Helsinki:20260331T190000
DTEND;TZID=Europe/Helsinki:20260331T203000
DTSTAMP:20260420T174452
CREATED:20260303T113349Z
LAST-MODIFIED:20260303T120211Z
UID:2001-1774983600-1774989000@kreative-therapie-hof.de
SUMMARY:Herzenszeit für Frauen
DESCRIPTION:Herzenszeit für Dich \nEin Raum zum Ankommen\, Auftanken und inneren Sortieren – besonders in Zeiten\, die dich fordern.\nMit sanften\, stärkenden Übungen begleite ich dich dabei\, deine Mitte zu nähren und wiederzufinden.\nDie Impulse eignen sich besonders für hochsensible Frauen und können leicht zu Hause weitergeübt werden. \nWas dich erwartet \n\nMeditation und Herzensgespräche\nfür mehr Ruhe\, Klarheit und Verbundenheit\nÜbungen aus dem Jin Shin Jyutsu\nzur Harmonisierung und Stärkung deiner Lebensenergie\nAustausch und weiterführende Impulse\nin einer wohltuenden\, geschützten Atmosphäre\n\nTeilnahme \n\nAnmeldung bis Donnerstag\, 29.03.  2026\nDie Plätze sind begrenzt – sichere dir deinen Platz für eine Reise zu dir selbst.\nEnergieausgleich: 22 €\nAnmeldung:\nTelefonisch\, per PN oder per Mail an gertraudfischer@gmx.de\n\n  \n 
URL:https://kreative-therapie-hof.de/event/herzenszeit-fuer-frauen/
LOCATION:Schödlas 2\, 95213 Münchberg\, 95213\, Deutschland
ATTACH;FMTTYPE=image/jpeg:https://kreative-therapie-hof.de/wp-content/uploads/Sonne.jpg
ORGANIZER;CN="Gertraud%20Fischer":MAILTO:gertraudfischer@gmx.de
END:VEVENT
BEGIN:VEVENT
DTSTART;TZID=Europe/Helsinki:20260411T100000
DTEND;TZID=Europe/Helsinki:20260411T130000
DTSTAMP:20260420T174452
CREATED:20260303T111720Z
LAST-MODIFIED:20260408T111803Z
UID:1999-1775901600-1775912400@kreative-therapie-hof.de
SUMMARY:Kreative Seelenzeit - Malen als Weg
DESCRIPTION:Kreative Seelenzeit –\nein Raum für dich-\nfür Stille\, Farbe\, Gestalten und inneres Ankommen. \nIn Kontakt mit Deinem inneren Kind \nThema: Spiel und   Struktur\, Stabilität und ein sicherer Rahmen \nIn diesem Kurs öffnet sich ein geschützter Rahmen\,\nin dem du dich über kreative Prozesse wieder mit dir selbst verbinden kannst. \nDeinem kreativen Anteil in Dir\,\ndem Kind in Dir\,\ndas lebendig\, neugierig auf das Leben  ist\,\nauf das\, was es ihm bringt. \nSich ausprobieren möchte\,\nauf Entdeckungsreise gehen\,\ndas Leben erkunden möchte. \nOhne Leistungsdruck\, ohne Vorgaben\n– nur du\,\ndein Atem\,\ndeine Hände und das\, was entstehen möchte. \nIm Malen\, Zeichnen  und kreativen Gestalten findest du  mehr und mehr deinen Weg nach innen\,\nzu dem Teil in Dir der Aufmerksam auf sich macht mit Interesse an Kunst \,\nmit Sehnsucht\, gestalten zu können\,\nLust auf Farbe\, mit Material zu experimentieren u.v.m. \nFarbe\, Linien\, Form\nunter Einbeziehung  von Körper – Geist und Seele –\nwerden zu Begleitern auf deiner inneren Reise. \nDu darfst lauschen\,\nspüren\,\nausprobieren\nund dich von deinem eigenen Ausdruck überraschen lassen. \nAlles\, was auftaucht\, darf da sein.\nAlles hat seinen Platz. \nDieser Kurs lädt dich ein\, dich selbst wieder zu berühren. \nMit Achtsamkeit\,\nmit Weite\,\nmit Freude am Entdecken. \nSchritt für Schritt entsteht ein Raum\,\nin dem du dich getragen fühlst\nund deine innere Stimme wieder hörbar wird. \nGestaltungsmaterial steht in meiner Praxis zur Verfügung und ist in der Kursgebühr inbegriffen.\nDer Energieausgleich beträgt 56 €. \nIn einer kleinen Gruppe von 3-5 Personen\nkann ich Dich individuell beraten und begleiten. \nDer Workshop ersetzt keine Therapie!\nDu solltest psychisch stabil sein\nund kannst den Kurs auch begleitend zu einer Psychotherapie buchen. \nSolltest Du unsicher sein\,\nob der  Workshop für Dich geeignet ist\, nimm gerne mit mir telefonisch Kontakt auf. \nMöchtest Du intensiv an einer Deiner  Heruausforderungen arbeiten\,\nbegleite ich Dich gerne in einer 3 stündigen Einzelsitzung mit\nkreativer\, körperorientierter Psychotherapie. \nDiese längeren Termine sind auch am Samstag möglich. \nDen  Teilnehmerinnen dieses Workshops steht am Sonntag den 19.4. von 10 bis 13 Uhr mein Atelier zum freien Gestalten zur Verfügung.\nEnergieausgleich auf Spendenbasis + Materialkosten. \n 
URL:https://kreative-therapie-hof.de/event/kreative-seelenzeit-in-kontakt-mit-deinem-inneren-kuenstlerkind/
LOCATION:Schödlas 2\, 95213 Münchberg\, 95213\, Deutschland
ATTACH;FMTTYPE=image/jpeg:https://kreative-therapie-hof.de/wp-content/uploads/neue-Wege-gehn.jpg
ORGANIZER;CN="Gertraud%20Fischer":MAILTO:gertraudfischer@gmx.de
END:VEVENT
BEGIN:VEVENT
DTSTART;TZID=Europe/Helsinki:20260416T180000
DTEND;TZID=Europe/Helsinki:20260416T193000
DTSTAMP:20260420T174452
CREATED:20260405T134507Z
LAST-MODIFIED:20260405T134551Z
UID:2025-1776362400-1776367800@kreative-therapie-hof.de
SUMMARY:Auf zu neuen Ufern mit energetischem Zeichnen
DESCRIPTION:🌿 Innere Klarheit finden – mit einer einfachen neurographischen Zeichnung \nIn stressigen Zeiten funktionieren wir oft nur noch. \nWir arbeiten wie am Schnürchen\, erledigen\, organisieren\n– und haben uns letztendlich  dabei  selbst verloren. \nManchmal merken wir erst spät\,\ndass wir gar nicht mehr wissen\,\nwer wir eigentlich sind oder wo wir gerade stehen. \nStress\, Anspannung\, Überlastung\,\nzu viele Verpflichtungen und Ängste ziehen uns nach Außen. \nInnen fühlt es sich dann leer\, erschöpft oder unruhig\, angstvoll an. \nMit diesem Kursinhalt kannst du trainieren\,\nden Weg zurück zu dir zu finden. \nZu deinen Bedürfnissen.\nZu deinem inneren Anker.\nZu einem Ort in dir\, der bleibt – auch wenn es im Außen stürmt. \nIn diesem Kursabend lernst Du eine einfachen neurographische Zeichenübung\,\ndie du mühelos in deinen Alltag integrieren kannst\,\n-verbunden mit Atem- und Körperwahrnehmungsübungen\,\num Dich emotional zu entlasten und wieder bei dir selbst anzukommen.
URL:https://kreative-therapie-hof.de/event/auf-zu-neuen-ufern-mit-energetischem-zeichnen-8/
ATTACH;FMTTYPE=image/jpeg:https://kreative-therapie-hof.de/wp-content/uploads/Abrunden.jpg
END:VEVENT
BEGIN:VEVENT
DTSTART;TZID=Europe/Helsinki:20260419T100000
DTEND;TZID=Europe/Helsinki:20260419T130000
DTSTAMP:20260420T174452
CREATED:20260405T121851Z
LAST-MODIFIED:20260405T125112Z
UID:2020-1776592800-1776603600@kreative-therapie-hof.de
SUMMARY:Offenes Atelier - ein kreativer Gestaltungsraum
DESCRIPTION:Seit längerer Zeit trage ich den Gedanken in mir\, meinen Kreativraum gelegentlich für gemeinsame Gestaltungszeiten zu öffnen. Im März gab es ein gelungenes erstes Mal – und in diesem Monat möchte ich dieses kleine Experiment wiederholen\, weils gut angenommen wurde.Diesmal lade ich am Sonntag\, den 19.4 ein.Von * 10:00 bis 13:00 Uhr *bin ich in meinem Atelier in meiner Praxis und freue mich\, wenn Du dazukommst\, um mit mir eine kreative\, entspannte Zeit zu teilen.Du kannst den Zeitraum flexibel nutzen …. auch später kommen oder früher gehen. \nEs gibt kein vorgegebenes Thema und keine Anleitung\, jedoch gerne Tipps – einfach freies Gestalten.Es ist ein offenes Atelier\, kein Workshop und keine Therapie. \nFür eine  Wertschätzung für verbrauchtes Material\, Raum und Zeit bin ich dankbar. \nWenn Du Lust hast\, dabei zu sein\, melde Dich bitte kurz.Die Teilnehmerzahl ist auf maximal 3 Personen begrenzt. \nIch freue mich auf gemeinsame kreative Zeit indem ich ein kreativen Energiefeld halte! \nHerzlichst🌷Gertraud
URL:https://kreative-therapie-hof.de/event/offenes-atelier-ein-kreativer-gestaltungsraum/
LOCATION:Schödlas 2\, 95213 Münchberg\, 95213\, Deutschland
ATTACH;FMTTYPE=image/jpeg:https://kreative-therapie-hof.de/wp-content/uploads/Kreative-Therapie-2.jpg
END:VEVENT
END:VCALENDAR